BEGIN:VCALENDAR
VERSION:2.0
PRODID:-//ChamberMaster//Event Calendar 2.0//EN
METHOD:PUBLISH
X-PUBLISHED-TTL:P3D
REFRESH-INTERVAL:P3D
CALSCALE:GREGORIAN
BEGIN:VEVENT
DTSTART;VALUE=DATE:20210225
DTEND;VALUE=DATE:20210226
TRANSP:TRANSPARENT
X-MICROSOFT-CDO-ALLDAYEVENT:TRUE
SUMMARY:Building High Preforming Teams
DESCRIPTION:The Challenge\n\nThe role of leadership is constantly evolving and in an age of highly competitive and often volatile markets\, leaders are pressed to achieve more with less\, while maintaining a positive workplace culture\, and engage\, inspire and retain great people. Throw in the added complexity of navigating employee generational differences\, increased diversity in the workforce\, the rise of wellbeing and flexible work considerations\, changing work environments\, and the pursuit of disruptive and innovative business models\, and we can appreciate that the modern leader faces an unprecedented challenge. What this means is that today's leaders need to have much more than a strong technical background to be effective.\n\n\n\nSo how do we address this?\n\nWe need to challenge the way we are upskilling our leaders. We need to provide leaders with a new way of thinking which not only sets them up for success when faced with change\, challenge\, or adversity\, but allows them to embrace and drive an effective response to it.
X-ALT-DESC;FMTTYPE=text/html:The Challenge<br />\nThe role of leadership is constantly evolving and in an age of highly competitive and often volatile markets\, leaders are pressed to achieve more with less\, while maintaining a positive workplace culture\, and engage\, inspire and retain great people. Throw in the added complexity of navigating employee generational differences\, increased diversity in the workforce\, the rise of wellbeing and flexible work considerations\, changing work environments\, and the pursuit of disruptive and innovative business models\, and we can appreciate that the modern leader faces an unprecedented challenge. What this means is that today&#39\;s leaders need to have much more than a strong technical background to be effective.<br />\n<br />\nSo how do we address this?<br />\nWe need to challenge the way we are upskilling our leaders. We need to provide leaders with a new way of thinking which not only sets them up for success when faced with change\, challenge\, or adversity\, but allows them to embrace and drive an effective response to it.&nbsp\;<br />\n&nbsp\;
LOCATION:
UID:e.2751.2785
SEQUENCE:3
DTSTAMP:20260421T132237Z
URL:https://business.waikatochamber.co.nz/events/details/building-high-preforming-teams-2785
END:VEVENT

END:VCALENDAR
