BEGIN:VCALENDAR
VERSION:2.0
PRODID:-//ChamberMaster//Event Calendar 2.0//EN
METHOD:PUBLISH
X-PUBLISHED-TTL:P3D
REFRESH-INTERVAL:P3D
CALSCALE:GREGORIAN
BEGIN:VEVENT
DTSTART:20210602T233000Z
DTEND:20210603T003000Z
X-MICROSOFT-CDO-ALLDAYEVENT:FALSE
SUMMARY:Budget Talk with David Seymour
DESCRIPTION:Join us to hear from David Seymour\, who will share their thoughts on the 2021 Budget \n\n\n\nDavid will be speaking about ACT's alternative budget\, a budget for middle New Zealand. While it's easy to criticise the Government\, ACT has come up with full costed alternative\, this would pay down our debt faster and give New Zealanders tax relief.\n\nWe can create the conditions for new opportunities. We can grow out of the challenges our country faces. But we need to stop dividing New Zealanders against each other and have honest conversations about the way forward.\n\n\n\nBefore politics\, David worked as an electrical engineer in New Zealand and for private sector think tanks in Canada. He has served as ACT Leader and MP for Epsom since 2014. In Government\, he was responsible for Regulatory Reform and charter schools. From opposition\, he passed the End of Life Choice Act.\n\nFearless and principled\, he is known for standing up for his constituents and\, if necessary\, to every other party. He has been named MP of the year twice\, and 'the only one talking sense' too many times to count.
X-ALT-DESC;FMTTYPE=text/html:<br />\nJoin us to hear from David Seymour\, who will share their thoughts on the 2021 Budget&nbsp\;<br />\n<br />\nDavid will be speaking about ACT&rsquo\;s alternative budget\, a budget for middle New Zealand. While it&rsquo\;s easy to criticise the Government\, ACT has come up with full costed alternative\, this would pay down our debt faster and give New Zealanders tax relief.<br />\nWe can create the conditions for new opportunities. We can grow out of the challenges our country faces. But we need to stop dividing New Zealanders against each other and have honest conversations about the way forward.<br />\n<br />\nBefore politics\, David worked as an electrical engineer in New Zealand and for private sector think tanks in Canada. He has served as ACT Leader and MP for Epsom since 2014. In Government\, he was responsible for Regulatory Reform and charter schools. From opposition\, he passed the End of Life Choice Act.<br />\nFearless and principled\, he is known for standing up for his constituents and\, if necessary\, to every other party. He has been named MP of the year twice\, and &lsquo\;the only one talking sense&rsquo\; too many times to count.
LOCATION:The Long Room\, Wintec House\, Hamilton Central
UID:e.2751.2813
SEQUENCE:3
DTSTAMP:20260426T041105Z
URL:https://business.waikatochamber.co.nz/events/details/budget-talk-with-david-seymour-2813
END:VEVENT

END:VCALENDAR
