BEGIN:VCALENDAR
VERSION:2.0
PRODID:-//ChamberMaster//Event Calendar 2.0//EN
METHOD:PUBLISH
X-PUBLISHED-TTL:P3D
REFRESH-INTERVAL:P3D
CALSCALE:GREGORIAN
BEGIN:VEVENT
DTSTART:20220526T003000Z
DTEND:20220526T013000Z
X-MICROSOFT-CDO-ALLDAYEVENT:FALSE
SUMMARY:Budget 2022 with Brad Olsen
DESCRIPTION:Principal Economist Brad Olsen joins us to give a presentation on the recently released 2022 budget\, exporting opportunities\, and global challenges.\n\n\n\nBrad Olsen is a Principal Economist and Director at Infometrics and is one of New Zealand's leading economic commentators. Brad is passionate about using economics to make better informed decisions and can communicate complex and detailed trends in a simple\, relatable\, and useful manner. With extensive networks across New Zealand's business\, media\, community\, and social sectors\, Brad often brings together a variety of views\, data\, and emerging trends to inform advice and analysis to key decision makers across New Zealand.\n\n\n\nBrad?s a community leader and is New Zealand?s youngest Justice of the Peace. His work in the community has been recognised a number of times: he was named New Zealand?s Queen?s Young Leader in 2016\, one of Asia New Zealand Foundation?s 25 to Watch in 2019\, and Young Wellingtonian of the Year 2020.
X-ALT-DESC;FMTTYPE=text/html:<span style="font-size:14px\;"><span style="font-family:arial\;">Principal Economist <a href="https://www.infometrics.co.nz/team/brad-olsen" target="_blank">Brad Olsen</a> joins us to give a presentation on the recently released 2022 budget\, </span></span>exporting opportunities\, and global challenges.<br />\n<br />\n<span style="font-size:14px\;"><span style="font-family:arial\;"><span style="color: rgb(33\, 37\, 41)\; background-color: rgb(255\, 255\, 255)\;">Brad Olsen is a Principal Economist and Director at Infometrics and is one of New Zealand&#39\;s leading economic commentators. Brad is passionate about using economics to make better informed decisions and can communicate complex and detailed trends in a simple\, relatable\, and useful manner. With extensive networks across New Zealand&#39\;s business\, media\, community\, and social sectors\, Brad often brings together a variety of views\, data\, and emerging trends to inform advice and analysis to key decision makers across New Zealand.</span></span></span><br />\n<br />\n<span style="background:white\;"><span style="color:black\;">Brad?s a community leader and is New Zealand?s youngest Justice of the Peace. His work in the community has been recognised a number of times: he was named New Zealand?s Queen?s Young Leader in 2016\, one of Asia New Zealand Foundation?s 25 to Watch in 2019\, and Young Wellingtonian of the Year 2020. </span></span>
LOCATION:The Long Room\, Wintec City Campus Complimentary tea\, coffee and water will be available. Masks are encouraged.
UID:e.2751.3857
SEQUENCE:3
DTSTAMP:20260419T173118Z
URL:https://business.waikatochamber.co.nz/events/details/budget-2022-with-brad-olsen-3857
END:VEVENT

END:VCALENDAR
