BEGIN:VCALENDAR
VERSION:2.0
PRODID:-//ChamberMaster//Event Calendar 2.0//EN
METHOD:PUBLISH
X-PUBLISHED-TTL:P3D
REFRESH-INTERVAL:P3D
CALSCALE:GREGORIAN
BEGIN:VEVENT
DTSTART:20180208T233000Z
DTEND:20180209T010000Z
X-MICROSOFT-CDO-ALLDAYEVENT:FALSE
SUMMARY:Briefing with the Ethiopian Embassy
DESCRIPTION:Jemal Beker\, Minister Counsellor for Economic Diplomacy Ethiopian Embassy and Ambassador Tirfu K/maria will be traveling to Hamilton on the 9th February. \n\n\n\nThe will be having a round table discussion with companies to strengthen the relationship between the two countries and build the people to people relationship.  The discussion will include topics such as:\n\n	Education\n	Agricultural and ago processing\n	Manufacturing\n	Infrastructure (Energy)\n	Social Sector (Health)\n	Tourism\n	Consultants\n\nIf you would like to meet and join the conversation\, please register online.\n\n\n\nThis event is in partnership with Export NZ.
X-ALT-DESC;FMTTYPE=text/html:Jemal&nbsp\;Beker\,&nbsp\;<span style="color:black\;">Minister Counsellor for Economic Diplomacy Ethiopian Embassy and Ambassador Tirfu K/maria will be traveling to Hamilton on the 9th February.&nbsp\;<br />\n<br />\nThe will be having a round table discussion with companies to strengthen the relationship between the two countries and build the people to people relationship.&nbsp\; The discussion will include topics such as:</span>\n<ul>\n	<li><span style="color:black\;">Education</span></li>\n	<li><span style="color:black\;">Agricultural and ago processing</span></li>\n	<li><font color="#000000">Manufacturing</font></li>\n	<li><font color="#000000">Infrastructure (Energy)</font></li>\n	<li><font color="#000000">Social Sector (Health)</font></li>\n	<li><font color="#000000">Tourism</font></li>\n	<li><font color="#000000">Consultants</font></li>\n</ul>\n<font color="#000000">If you would like to meet and join the conversation\, please register online.<br />\n<br />\nThis event is in partnership&nbsp\;with Export NZ.</font>
LOCATION:PWC Level 4\, Cnr Anglesea & Ward Streets\, Hamilton CBD
UID:e.2751.1241
SEQUENCE:3
DTSTAMP:20260423T124824Z
URL:https://business.waikatochamber.co.nz/events/details/briefing-with-the-ethiopian-embassy-1241
END:VEVENT

END:VCALENDAR
