BEGIN:VCALENDAR
VERSION:2.0
PRODID:-//ChamberMaster//Event Calendar 2.0//EN
METHOD:PUBLISH
X-PUBLISHED-TTL:P3D
REFRESH-INTERVAL:P3D
CALSCALE:GREGORIAN
BEGIN:VEVENT
DTSTART:20200702T193000Z
DTEND:20200702T204500Z
X-MICROSOFT-CDO-ALLDAYEVENT:FALSE
SUMMARY:Breakfast with Todd Muller
DESCRIPTION:Todd Muller\, leader of the National Party\, will join the Waikato business community to speak about his plans to get the economy moving and creating more jobs for New Zealand\, this will be followed by Q&A\, breakfast and networking.\n\n \n\nTodd Muller was born in Te Aroha and raised in Te Puna. He attended Tauranga Boys College before earning his Master's Degree from the University of Waikato.\n\n \n\nHis career experience includes roles as a General Manager for Zespri\, Chief Executive of Bay of Plenty company Apata\, and most recently as Group Director Cooperative Affairs for Fonterra.\n\n \n\nHe is a former University of Waikato Councillor\, and sat on the Boards of Plant & Food Research and the Sustainable Business Council.\n\n \n\nDuring his time in Parliament Todd has served as the Chairperson of the Foreign Affairs\, Defence and Trade Select Committee\, and as the Deputy Chairperson of the Education and Science Select Committee. He is the Opposition Spokesperson for Agriculture\, Biosecurity\, Food Safety\, and Forestry. Todd sits on the Primary Production Select Committee.\n\n \n\nTodd is married to Michelle and is father to their three children\, Aimee\, Bradley\, and Amelia.\n\n\n\nPlease email any dietary requirements upon registration.
X-ALT-DESC;FMTTYPE=text/html:<p style="margin-top:0cm\;margin-right:0cm\;margin-bottom:9.4pt\;margin-left:0cm\;\nbackground:white">Todd Muller\, leader of the National Party\, will join the Waikato business community to speak about his plans to get the economy moving and creating more jobs for New Zealand\, this will be followed by Q&amp\;A\, breakfast and networking.<br />\n&nbsp\;<br />\nTodd Muller was born in Te Aroha and raised in Te Puna. He attended Tauranga Boys College before earning his Master&rsquo\;s Degree from the University of Waikato.<br />\n&nbsp\;<br />\nHis career experience includes roles as a General Manager for Zespri\, Chief Executive of Bay of Plenty company Apata\, and most recently as Group Director Cooperative Affairs for Fonterra.<br />\n&nbsp\;<br />\nHe is a former University of Waikato Councillor\, and sat on the Boards of Plant &amp\; Food Research and the Sustainable Business Council.<br />\n&nbsp\;<br />\nDuring his time in Parliament Todd has served as the Chairperson of the Foreign Affairs\, Defence and Trade Select Committee\, and as the Deputy Chairperson of the Education and Science Select Committee. He is the Opposition Spokesperson for Agriculture\, Biosecurity\, Food Safety\, and Forestry. Todd sits on the Primary Production Select Committee.<br />\n&nbsp\;<br />\nTodd is married to Michelle and is father to their three children\, Aimee\, Bradley\, and Amelia.<br />\n<br />\n<span style="font-size:12px\;"><span style="background:white\;"><span style="color:#333333\;"><span style="font-family:arial\,sans-serif\;">Please email any dietary requirements upon registration.</span></span></span></span><br />\n<br />\n<span style="font-size:13.5pt\;font-family:&quot\;Helvetica&quot\;\,sans-serif\;\ncolor:#333333"><o:p></o:p></span></p>\n
LOCATION:Union Room Novotel Hotel\, Hamilton.
UID:e.2751.2743
SEQUENCE:3
DTSTAMP:20260421T164656Z
URL:https://business.waikatochamber.co.nz/events/details/breakfast-with-todd-muller-2743
END:VEVENT

END:VCALENDAR
