BEGIN:VCALENDAR
VERSION:2.0
PRODID:-//ChamberMaster//Event Calendar 2.0//EN
METHOD:PUBLISH
X-PUBLISHED-TTL:P3D
REFRESH-INTERVAL:P3D
CALSCALE:GREGORIAN
BEGIN:VEVENT
DTSTART:20170607T193000Z
DTEND:20170607T210000Z
X-MICROSOFT-CDO-ALLDAYEVENT:FALSE
SUMMARY:Breakfast with Hon Steven Joyce speaking on 2017 NZ Budget
DESCRIPTION:WAIKATO CHAMBER OF COMMERCE IN PARTNERSHIP WITH THE WAIKATO BRANCH OF THE INSTITUTE OF DIRECTORS PRESENT:\n\nSpeaker: "Hon Steven Joyce\, Minister of Finance and Minister for Infrastructure on\n\n"2017 NZ Budget  Update"\n\nBreakfast Function
X-ALT-DESC;FMTTYPE=text/html:<h3>WAIKATO CHAMBER OF COMMERCE IN PARTNERSHIP WITH THE WAIKATO BRANCH OF THE INSTITUTE OF DIRECTORS&nbsp\;PRESENT:</h3>\n\n<h3><strong>Speaker: &ldquo\;Hon Steven Joyce\, Minister of Finance and Minister for Infrastructure on</strong></h3>\n\n<h2 style="text-align: center\;">&quot\;2017 NZ Budget&nbsp\; Update&quot\;</h2>\n\n<h2 style="text-align: center\;">Breakfast Function</h2>\n
LOCATION:FMG Stadium\, Gate 5 Bronze Lounge (Level 3)
UID:e.2751.52
SEQUENCE:3
DTSTAMP:20260424T014830Z
URL:https://business.waikatochamber.co.nz/events/details/breakfast-with-hon-steven-joyce-speaking-on-2017-nz-budget-52
END:VEVENT

END:VCALENDAR
