BEGIN:VCALENDAR
VERSION:2.0
PRODID:-//ChamberMaster//Event Calendar 2.0//EN
METHOD:PUBLISH
X-PUBLISHED-TTL:P3D
REFRESH-INTERVAL:P3D
CALSCALE:GREGORIAN
BEGIN:VEVENT
DTSTART:20220522T193000Z
DTEND:20220522T210000Z
X-MICROSOFT-CDO-ALLDAYEVENT:FALSE
SUMMARY:Breakfast with Christopher Luxon
DESCRIPTION:Join us for the first in a series of political events in 2022   Breakfast with Christopher Luxon.\n\n\n\nChristopher will deliver a post-budget speech in what will be the first event in Hamilton following the 2022 budget announcement. This will be followed by a networking session where you will have the chance to talk with Christopher and local National MPs.\n\n\n\nChristopher Luxon   first a father\, a husband\, a brother and a son   is the Leader of the National Party. Christopher's life has been a storied one   travelling the world with his career. He was recruited by Unilever from university and rose to the role of President & CEO of Unilever Canada. Christopher left his role with Unilever to become Air New Zealand CEO in 2013.\n\n\n\nChristopher ran in the electorate he grew up in at the 2020 election and was elected the MP for Botany. He was elected Leader of the National Party in late November 2021.
X-ALT-DESC;FMTTYPE=text/html:Join us for the first in a series of political events in 2022 &ndash\; Breakfast with Christopher Luxon.<br />\n<br />\nChristopher will deliver a post-budget speech in what will be the first event in Hamilton following the 2022 budget announcement. This will be followed by a networking session where you will have the chance to talk with Christopher and local National MPs.<br />\n<br />\nChristopher Luxon &ndash\; first a father\, a husband\, a brother and a son &ndash\; is the Leader of the National Party. Christopher&rsquo\;s life has been a storied one &ndash\; travelling the world with his career. He was recruited by Unilever from university and rose to the role of President &amp\; CEO of Unilever Canada. Christopher left his role with Unilever to become Air New Zealand CEO in 2013.<br />\n<br />\nChristopher ran in the electorate he grew up in at the 2020 election and was elected the MP for Botany. He was elected Leader of the National Party in late November 2021.
LOCATION:The Atrium Wintec City Campus\, Hamilton As part of this event will be seated\, masks are encouraged to be worn.
UID:e.2751.3860
SEQUENCE:3
DTSTAMP:20260419T191130Z
URL:https://business.waikatochamber.co.nz/events/details/breakfast-with-christopher-luxon-3860
END:VEVENT

END:VCALENDAR
