BEGIN:VCALENDAR
VERSION:2.0
PRODID:-//ChamberMaster//Event Calendar 2.0//EN
METHOD:PUBLISH
X-PUBLISHED-TTL:P3D
REFRESH-INTERVAL:P3D
CALSCALE:GREGORIAN
BEGIN:VEVENT
DTSTART:20210526T200000Z
DTEND:20210526T213000Z
X-MICROSOFT-CDO-ALLDAYEVENT:FALSE
SUMMARY:Breakfast with Christopher Luxon
DESCRIPTION:Join us for a light breakfast with Christopher Luxon. This event is sponsored by Stark Property.\n\n \n\nChristopher will give a presentation focused on business and his experiences.\n\nChristopher Luxon is a businessman\, father and proud New Zealander with extensive experience at the highest levels of global corporate leadership.\n\n \n\nHe was born in Christchurch and raised in Howick\, Auckland\, attending local Botany schools including Cockle Bay Primary and Howick College. He holds a Bachelor and Master of Commerce (Business Administration) from the University of Canterbury\, which he attended between 1989 and 1992.\n\n \n\nUpon graduating\, Mr Luxon commenced a successful 18 year career at Unilever\, working in New Zealand and around the globe\, concluding his time with the company based in Toronto as President and CEO of Unilever Canada.\n\n \n\nIn 2011\, he returned home upon being appointed CEO of Air New Zealand. Under his leadership\, it returned record profits\, saw all time customer satisfaction scores\, and the highest levels of staff engagement.\n\n \n\nChristopher has won numerous business awards\, including the Peter Blake Leader Award and the Deloitte CEO of the Year. Outside his corporate roles\, he has served as Chair of the Prime Minister's Business Advisory Council and is a Vice Chair and Trustee of the international aid organisation Tearfund New Zealand.\n\n \n\nChristopher is married to Amanda and together they live in Auckland with their two children.
X-ALT-DESC;FMTTYPE=text/html:Join us for a light breakfast with Christopher Luxon. This event is sponsored by Stark Property.<br />\n&nbsp\;<br />\nChristopher will give a presentation focused on business and his experiences.<br />\nChristopher Luxon is a businessman\, father and proud New Zealander with extensive experience at the highest levels of global corporate leadership.<br />\n&nbsp\;<br />\nHe was born in Christchurch and raised in Howick\, Auckland\, attending local Botany schools including Cockle Bay Primary and Howick College. He holds a Bachelor and Master of Commerce (Business Administration) from the University of Canterbury\, which he attended between 1989 and 1992.<br />\n&nbsp\;<br />\nUpon graduating\, Mr Luxon commenced a successful 18 year career at Unilever\, working in New Zealand and around the globe\, concluding his time with the company based in Toronto as President and CEO of Unilever Canada.<br />\n&nbsp\;<br />\nIn 2011\, he returned home upon being appointed CEO of Air New Zealand. Under his leadership\, it returned record profits\, saw all time customer satisfaction scores\, and the highest levels of staff engagement.<br />\n&nbsp\;<br />\nChristopher has won numerous business awards\, including the Peter Blake Leader Award and the Deloitte CEO of the Year. Outside his corporate roles\, he has served as Chair of the Prime Minister&rsquo\;s Business Advisory Council and is a Vice Chair and Trustee of the international aid organisation Tearfund New Zealand.<br />\n&nbsp\;<br />\nChristopher is married to Amanda and together they live in Auckland with their two children.<br />\n&nbsp\;
LOCATION:Panama Square\, Level 2\, 14 Garden Place\, Hamilton
UID:e.2751.2809
SEQUENCE:3
DTSTAMP:20260426T024515Z
URL:https://business.waikatochamber.co.nz/events/details/breakfast-with-christopher-luxon-2809
END:VEVENT

END:VCALENDAR
