BEGIN:VCALENDAR
VERSION:2.0
PRODID:-//ChamberMaster//Event Calendar 2.0//EN
METHOD:PUBLISH
X-PUBLISHED-TTL:P3D
REFRESH-INTERVAL:P3D
CALSCALE:GREGORIAN
BEGIN:VEVENT
DTSTART:20170427T031500Z
DTEND:20170427T034500Z
X-MICROSOFT-CDO-ALLDAYEVENT:FALSE
SUMMARY:Bill English: Member Exclusive Invitation
DESCRIPTION:An exclusive invitation to the members of the Waikato Chamber of Commerce and the Hamilton Central Business Association.\n\nMeet our Prime Minister\, the Rt Hon Bill English\, hear his views on the development opportunities for Hamilton and the Waikato\, followed by an informal walk of the room.\n\nThis function is for members only of the Hamilton Central Business Association and Waikato Chamber of Commerce.\n\nFor security purposes you must RSVP by 9am Wednesday 26th April for entry.
X-ALT-DESC;FMTTYPE=text/html:<h1 align="LEFT"><span style="font-size:14px\;">An exclusive invitation to the members of the Waikato Chamber of Commerce and the Hamilton Central Business Association.</span></h1>\n\n<p align="LEFT">Meet our Prime Minister\, the Rt Hon Bill English\, hear his views on the development opportunities for Hamilton and the Waikato\, followed by an informal walk of the room.</p>\n\n<p align="LEFT">This function is for members only of the Hamilton Central Business Association and Waikato Chamber of Commerce.</p>\n\n<p align="LEFT">For security purposes you must RSVP by 9am Wednesday 26th April for entry.</p>\n
LOCATION:SKYCITY Hamilton Function Centre\, Waikato Room 1 & 2
UID:e.2751.50
SEQUENCE:3
DTSTAMP:20260424T053102Z
URL:https://business.waikatochamber.co.nz/events/details/bill-english-member-exclusive-invitation-50
END:VEVENT

END:VCALENDAR
