BEGIN:VCALENDAR
VERSION:2.0
PRODID:-//ChamberMaster//Event Calendar 2.0//EN
METHOD:PUBLISH
X-PUBLISHED-TTL:P3D
REFRESH-INTERVAL:P3D
CALSCALE:GREGORIAN
BEGIN:VEVENT
DTSTART:20180214T030000Z
DTEND:20180214T050000Z
X-MICROSOFT-CDO-ALLDAYEVENT:FALSE
SUMMARY:Better Exporting – Selecting & Understanding Markets
DESCRIPTION:Determining which markets and to what extent a market can support long term sustainable and profitable growth can be a real challenge. Given constraints of time\, money and resource\, it is critical you safeguard that investment and get it right first time.\n\nThere are key strategies you can implement to proactively select and understand markets\, and develop products that maximise value to customers and sales potential.\n\nOur Better Exporting seminar series will expose you to how local exporters have implemented 'best practice' in effectively implementing research and strategies to determine the feasibility of an offshore market with a view to long term sustainable growth.\n\nFeatured Speakers:\n\n\n	Dan Hansen\, Managing Director - MSM Sales Specialists\n	Nick Smith\, Managing Director - PRO-FORM\n	Roger Wakelin\, CEO - Simcro
X-ALT-DESC;FMTTYPE=text/html:<p>Determining which markets and to what extent a market can support long term sustainable and profitable growth can be a real challenge. Given constraints of time\, money and resource\, it is critical you safeguard that investment and get it right first time.</p>\n\n<p>There are key strategies you can implement to proactively select and understand markets\, and develop products that maximise value to customers and sales potential.</p>\n\n<p>Our Better Exporting seminar series will expose you to how local exporters have implemented &lsquo\;best practice&rsquo\; in effectively implementing research and strategies to determine the feasibility of an offshore market with a view to long term sustainable growth.</p>\n\n<p>Featured Speakers:</p>\n\n<ul>\n	<li>Dan Hansen\, Managing Director - MSM Sales Specialists</li>\n	<li>Nick Smith\, Managing Director - PRO-FORM</li>\n	<li>Roger Wakelin\, CEO - Simcro</li>\n</ul>\n
LOCATION:PWC Building\, Level 4\, Cnr Ward & Anglesea Sts. Hamilton CBD
UID:e.2751.1244
SEQUENCE:3
DTSTAMP:20260423T124508Z
URL:https://business.waikatochamber.co.nz/events/details/better-exporting-selecting-understanding-markets-1244
END:VEVENT

END:VCALENDAR
