BEGIN:VCALENDAR
VERSION:2.0
PRODID:-//ChamberMaster//Event Calendar 2.0//EN
METHOD:PUBLISH
X-PUBLISHED-TTL:P3D
REFRESH-INTERVAL:P3D
CALSCALE:GREGORIAN
BEGIN:VEVENT
DTSTART:20160809T210000Z
DTEND:20160810T010000Z
X-MICROSOFT-CDO-ALLDAYEVENT:FALSE
SUMMARY:Basics of Managing Disciplinaries & Dismissals
DESCRIPTION:Procedural fairness reigns supreme in the world of disciplinaries and dismissals. Your handling of a potentially volatile situation in a confident and procedurally correct manner will mean you achieve the best outcome for your business in terms of avoiding costs\, downtime\, damage to team culture\, morale and your organisation's reputation.
X-ALT-DESC;FMTTYPE=text/html:<p><span font-size:="" line-height:="" open="" style="color: rgb(85\, 85\, 85)\; font-family: ">Procedural fairness reigns supreme in the world of disciplinaries and dismissals. Your handling of a potentially volatile situation in a confident and procedurally correct manner will mean you achieve the best outcome for your business in terms of avoiding costs\, downtime\, damage to team culture\, morale and your organisation&rsquo\;s reputation.</span></p>\n
LOCATION:The Link Community Centre\, Corner River Road & Te Aroha Street
UID:e.2751.6
SEQUENCE:3
DTSTAMP:20260424T181400Z
URL:https://business.waikatochamber.co.nz/events/details/basics-of-managing-disciplinaries-dismissals-08-10-2016-6
END:VEVENT

END:VCALENDAR
