BEGIN:VCALENDAR
VERSION:2.0
PRODID:-//ChamberMaster//Event Calendar 2.0//EN
METHOD:PUBLISH
X-PUBLISHED-TTL:P3D
REFRESH-INTERVAL:P3D
CALSCALE:GREGORIAN
BEGIN:VEVENT
DTSTART;VALUE=DATE:20180409
DTEND;VALUE=DATE:20180410
TRANSP:TRANSPARENT
X-MICROSOFT-CDO-ALLDAYEVENT:TRUE
SUMMARY:Basic Internet Marketing
DESCRIPTION:Marketing without an internet component isn't going to get you far these days. But for many of us\, internet marketing is still a bit of a mystery. All those acronyms! All those moving parts! How are you supposed to get your head around it all?\nThis course is exactly what it says: an introduction to the basics. You may already be in a marketing role and looking to understand the online world. Or you may be new to marketing.\n\nThe course touches on the key elements of internet marketing\, one by one\, so you can understand what each one is and what it does. Along the way\, we also discuss how the different elements work together so you can start to implement what you've learned the very next day.
X-ALT-DESC;FMTTYPE=text/html:<span style="color:rgb(55\, 58\, 60)\; font-family:source sans pro\,arial\,tahoma\,sans-serif\; font-size:16px">Marketing without an internet component isn&rsquo\;t going to get you far these days. But for many of us\, internet marketing is still a bit of a mystery. All those acronyms! All those moving parts! How are you supposed to get your head around it all?</span>\n<p><span style="font-size:14px">This course is exactly what it says: an introduction to the basics. You may already be in a marketing role and looking to understand the online world. Or you may be new to marketing.</span></p>\n\n<p><span style="font-size:14px">The course touches on the key elements of internet marketing\, one by one\, so you can understand what each one is and what it does. Along the way\, we also discuss how the different elements work together so you can start to implement what you&rsquo\;ve learned the very next day.</span></p>\n
LOCATION:Wintec City Campus Gate 3 Tristram Street Hamilton 3240
UID:e.2751.1257
SEQUENCE:3
DTSTAMP:20260421T083346Z
URL:https://business.waikatochamber.co.nz/events/details/basic-internet-marketing-1257
END:VEVENT

END:VCALENDAR
