BEGIN:VCALENDAR
VERSION:2.0
PRODID:-//ChamberMaster//Event Calendar 2.0//EN
METHOD:PUBLISH
X-PUBLISHED-TTL:P3D
REFRESH-INTERVAL:P3D
CALSCALE:GREGORIAN
BEGIN:VEVENT
DTSTART:20171129T040000Z
DTEND:20171129T060000Z
X-MICROSOFT-CDO-ALLDAYEVENT:FALSE
SUMMARY:BA5: Ventura Inn and Suites
DESCRIPTION:Join us for another BA5\, this time with the newly refurbished Ventura Inns and Suites Hamilton!
X-ALT-DESC;FMTTYPE=text/html:Join us for another BA5\, this time with the newly refurbished Ventura Inns and Suites Hamilton!&nbsp\;&nbsp\;&nbsp\;&nbsp\;&nbsp\;
LOCATION:Ventura Inns and Suits\, 23 Clarence Street\, Hamilton
UID:e.2751.1090
SEQUENCE:3
DTSTAMP:20260423T192450Z
URL:https://business.waikatochamber.co.nz/events/details/ba5-ventura-inn-and-suites-1090
END:VEVENT

END:VCALENDAR
