BEGIN:VCALENDAR
VERSION:2.0
PRODID:-//ChamberMaster//Event Calendar 2.0//EN
METHOD:PUBLISH
X-PUBLISHED-TTL:P3D
REFRESH-INTERVAL:P3D
CALSCALE:GREGORIAN
BEGIN:VEVENT
DTSTART:20190213T030000Z
DTEND:20190213T050000Z
X-MICROSOFT-CDO-ALLDAYEVENT:FALSE
SUMMARY:BA5: The Instillery Office Launch - Tron Legacy
DESCRIPTION:For this month's BA5\, the Waikato Chamber of Commerce is partnering up with \n\nThe Instillery to officially roll in the launch of their new headquarters in Hamilton.\n\n\n\nThey've secured a new home in the heart of the CBD\, at the top of the SKYCITY Building. This investment solidifies their commitment to bringing the top tech talent to Waikato but also instilling their capability and experience in cloud to level up the local talent too.\n\n\n\nJoin us for drinks and nibbles\, with CEO and Founder Mike Jenkins saying a few words with a special celebrity guest!
X-ALT-DESC;FMTTYPE=text/html:<span style="color:#000000">For this month&#39\;s BA5\, the Waikato Chamber of Commerce is partnering up with&nbsp\;<br />\n<strong>The Instillery </strong>to officially roll in the launch of their new headquarters in Hamilton.<br />\n<br />\nThey&#39\;ve secured a new home in the heart of the CBD\, at the top of the SKYCITY Building.&nbsp\;This investment solidifies their commitment to bringing the top tech talent to Waikato but also instilling their capability and experience in cloud to level up the local talent too.<br />\n<br />\nJoin us for drinks and nibbles\, with CEO and Founder Mike Jenkins saying a few words with a special celebrity guest!</span>
LOCATION:The Instillery Hamilton Level 3\, SKYCITY Building 346 Victoria Street\, Hamilton
UID:e.2751.2622
SEQUENCE:3
DTSTAMP:20260422T190226Z
URL:https://business.waikatochamber.co.nz/events/details/ba5-the-instillery-office-launch-tron-legacy-2622
END:VEVENT

END:VCALENDAR
