BEGIN:VCALENDAR
VERSION:2.0
PRODID:-//ChamberMaster//Event Calendar 2.0//EN
METHOD:PUBLISH
X-PUBLISHED-TTL:P3D
REFRESH-INTERVAL:P3D
CALSCALE:GREGORIAN
BEGIN:VEVENT
DTSTART:20170315T040000Z
DTEND:20170315T060000Z
X-MICROSOFT-CDO-ALLDAYEVENT:FALSE
SUMMARY:BA5: The Ambassador Hotel
DESCRIPTION:An icon in Hamilton since the 1970's.\n\nThe Ambassador Hotel has undergone a full transformation over the last few years with a refurbishment and the addition of the luxurious Clarion Suites Studio Apartments.\n\nThe multi award winning hotel offers conference and meeting rooms\, Retrospect Caf /Bar/Grill and a range in accommodation options including motel room\, hotel rooms and studio apartments and catering to groups\, corporate travellers and leisure guests.\n\nIt's an exciting time in the tourism industry for the Waikato region so come along and join the Ambassador team at our first Chamber BA5\, take a look through the rooms and hear about our exciting plans for the future.
X-ALT-DESC;FMTTYPE=text/html:<h3>An icon in Hamilton since the 1970&rsquo\;s.</h3>\n\n<p>The Ambassador Hotel has undergone a full transformation over the last few years with a refurbishment and the addition of the luxurious Clarion Suites Studio Apartments.</p>\n\n<p>The multi award winning hotel offers conference and meeting rooms\, Retrospect Caf&eacute\;/Bar/Grill and a range in accommodation options including motel room\, hotel rooms and studio apartments and catering to groups\, corporate travellers and leisure guests.</p>\n\n<p>It&rsquo\;s an exciting time in the tourism industry for the Waikato region so come along and join the Ambassador team at our first Chamber BA5\, take a look through the rooms and hear about our exciting plans for the future.</p>\n
LOCATION:86 - 92 Ulster Street\, Hamilton FREE PARKING AVAILABLE AT THE HOTEL
UID:e.2751.34
SEQUENCE:3
DTSTAMP:20260424T072713Z
URL:https://business.waikatochamber.co.nz/events/details/ba5-the-ambassador-hotel-34
END:VEVENT

END:VCALENDAR
