BEGIN:VCALENDAR
VERSION:2.0
PRODID:-//ChamberMaster//Event Calendar 2.0//EN
METHOD:PUBLISH
X-PUBLISHED-TTL:P3D
REFRESH-INTERVAL:P3D
CALSCALE:GREGORIAN
BEGIN:VEVENT
DTSTART:20170621T050000Z
DTEND:20170621T070000Z
X-MICROSOFT-CDO-ALLDAYEVENT:FALSE
SUMMARY:BA5: QMS Media
DESCRIPTION:QMS are a leading outdoor media company in New Zealand and Australia.\n\nSpecialising in providing clients and agency partners with engaging\, impactful and innovative advertising solutions across several outdoor media networks.\n\nCome and join us as we show you how the Waikato is trending against the international market using outdoor media channels.\n\nHamilton has significant Bus and Billboard assets which are used to capitilise on the growth for your business.\n\nWe will also share a few secrets as to how consumers move throughout Hamilton and how you can best target your customers.\n\nValued at $3500 a one month Bus Back campaign will be given away to the winner of the business card drawer.
X-ALT-DESC;FMTTYPE=text/html:<h2>QMS are a leading outdoor media company in New Zealand and Australia.</h2>\n\n<p>Specialising in providing&nbsp\;clients and agency partners with engaging\, impactful and innovative advertising solutions across&nbsp\;several outdoor media networks.</p>\n\n<p>Come and join us as we show you how the Waikato is trending against the international market using outdoor media channels.</p>\n\n<p>Hamilton has significant Bus and Billboard assets which are used to capitilise on the growth for your business.</p>\n\n<p>We will also share a few secrets as to how consumers move throughout Hamilton and how you can best target your customers.</p>\n\n<p>Valued at $3500 a&nbsp\;one month Bus Back campaign will be given away to the winner of the business card drawer.</p>\n
LOCATION:Mavis Made to order\, Cnr Nisbett & Anglesea Street Hamilton City (under Wintec)
UID:e.2751.55
SEQUENCE:3
DTSTAMP:20260424T014646Z
URL:https://business.waikatochamber.co.nz/events/details/ba5-qms-media-55
END:VEVENT

END:VCALENDAR
