BEGIN:VCALENDAR
VERSION:2.0
PRODID:-//ChamberMaster//Event Calendar 2.0//EN
METHOD:PUBLISH
X-PUBLISHED-TTL:P3D
REFRESH-INTERVAL:P3D
CALSCALE:GREGORIAN
BEGIN:VEVENT
DTSTART:20190409T040000Z
DTEND:20190409T060000Z
X-MICROSOFT-CDO-ALLDAYEVENT:FALSE
SUMMARY:BA4: PKF Hamilton
DESCRIPTION:PKF Hamilton  a new name in town after 85 years.\n\n \n\nCome and meet the team at PKF Hamilton Chartered Accountants.  They have been around for 85 years and are now only six months old.  This is a classic organisation which have reinvented itself and has revigorated their business to be more relevant to their clients.\n\n \n\nIn addition to rebranding from BDO to PKF\, the good accountants on Victoria Street haven't been sitting idle.  They merged with Matthew Fulton of Robertson Fulton on 1 January 2019\, and now have a full complement of 50 people working with their client base which are families in business and the Not-for-Profit organisations.\n\n \n\nYou will find a different bunch of people at PKF and hopefully we will take away the stereotypes you may have about accountants.\n\n \n\nPKF are offering a one year free subscription to Xero as a prize for attending this BA4.  They are platinum partners of Xero and one of the largest Xero firms in the Waikato.
X-ALT-DESC;FMTTYPE=text/html:PKF Hamilton&hellip\;&hellip\;a new name in town after 85 years.<br />\n&nbsp\;<br />\nCome and meet the team at PKF Hamilton Chartered Accountants.&nbsp\; They have been around for 85 years and are now only six months old.&nbsp\; This is a classic organisation which have reinvented itself and has revigorated their business to be more relevant to their clients.<br />\n&nbsp\;<br />\nIn addition to rebranding from BDO to PKF\, the good accountants on Victoria Street haven&rsquo\;t been sitting idle.&nbsp\; They merged with Matthew Fulton of Robertson Fulton on 1 January 2019\, and now have a full complement of 50 people working with their client base which are families in business and the Not-for-Profit organisations.<br />\n&nbsp\;<br />\nYou will find a different bunch of people at PKF and hopefully we will take away the stereotypes you may have about accountants.<br />\n&nbsp\;<br />\nPKF are offering a one year free subscription to Xero as a prize for attending this BA4.&nbsp\; They are platinum partners of Xero and one of the largest Xero firms in the Waikato.
LOCATION:PKF Hamilton 1026 Victoria Street Hamilton
UID:e.2751.2629
SEQUENCE:3
DTSTAMP:20260422T154925Z
URL:https://business.waikatochamber.co.nz/events/details/ba5-pkf-hamilton-2629
END:VEVENT

END:VCALENDAR
