BEGIN:VCALENDAR
VERSION:2.0
PRODID:-//ChamberMaster//Event Calendar 2.0//EN
METHOD:PUBLISH
X-PUBLISHED-TTL:P3D
REFRESH-INTERVAL:P3D
CALSCALE:GREGORIAN
BEGIN:VEVENT
DTSTART:20161012T040000Z
DTEND:20161012T060000Z
X-MICROSOFT-CDO-ALLDAYEVENT:FALSE
SUMMARY:BA5: Modern Office
DESCRIPTION:Join the Modern Office team with the Waikato Chamber of Commerce at our BA5 and find out how AWB can improve the communication and concentration in your workspace.\n\n\n\nActivity Based Working (ABW) is an international trend which gives employees a choice about how\, when and where they work. It's all about moving away from the traditional offices\, which take up a lot of space\, reducing operating costs\, encouraging sales staff to be out of the office\, and building spaces around collaboration.\n\n\n\nInternational research shows ABW improves communication and concentration in offices and ultimately leads to better staff retention\, productivity and innovation. \n\n\n\nWhile the intent of ABW is clear\, ensuring good design is another matter. The team at Modern Office know that encouraging interactions and creative thinking is the key to survival for all businesses and the physical environment can have a catalysing effect on creativity.
X-ALT-DESC;FMTTYPE=text/html:Join the Modern Office team with the Waikato Chamber of Commerce at our BA5 and find out how AWB can improve the communication and concentration in your workspace.<br />\n<br />\nActivity Based Working (ABW) is an international trend which gives employees a choice about how\, when and where they work. It&rsquo\;s all about moving away from the traditional offices\, which take up a lot of space\, reducing operating costs\, encouraging sales staff to be out of the office\, and building spaces around collaboration.<br />\n<br />\nInternational research shows ABW improves communication and concentration in offices and ultimately leads to better staff retention\, productivity and innovation.&nbsp\;<br />\n<br />\nWhile the intent of ABW is clear\, ensuring good design is another matter. The team at Modern Office know that encouraging interactions and creative thinking is the key to survival for all businesses and the physical environment can have a catalysing effect on creativity.
LOCATION:Modern Office\, 103 Tristram Street\, Hamilton
UID:e.2751.18
SEQUENCE:3
DTSTAMP:20260424T154912Z
URL:https://business.waikatochamber.co.nz/events/details/ba5-modern-office-18
END:VEVENT

END:VCALENDAR
