BEGIN:VCALENDAR
VERSION:2.0
PRODID:-//ChamberMaster//Event Calendar 2.0//EN
METHOD:PUBLISH
X-PUBLISHED-TTL:P3D
REFRESH-INTERVAL:P3D
CALSCALE:GREGORIAN
BEGIN:VEVENT
DTSTART:20170823T050000Z
DTEND:20170823T070000Z
X-MICROSOFT-CDO-ALLDAYEVENT:FALSE
SUMMARY:BA5: EVES Real Estate
DESCRIPTION:Welcome to the Chamber BA5 in association with EVES Hamilton East. On behalf of EVES Real Estate\, we are so glad to welcome you to our brand new Hamilton East office. One of 12 in the Waikato and Bay of Plenty.\n\n\n\nJoin us to find out what's happening in our local real estate market\, discussing more general market trends and meeting a few of our team. Thanks for coming and we hope that this BA5 helps you grow your real estate interest and knowledge."\n\n\n\nTwo business card draws  - the first for large EVES Degustation hamper and the second a local Restaurant Voucher.
X-ALT-DESC;FMTTYPE=text/html:Welcome to the Chamber BA5 in association with EVES Hamilton East. On behalf of EVES Real Estate\, we are so glad to welcome you to our brand new Hamilton East office. One of 12 in the Waikato and Bay of Plenty.<br />\n<br />\nJoin us to&nbsp\;find out what&rsquo\;s happening in our local real estate market\, discussing more general market trends and meeting a few of our team. Thanks for coming and we hope that this BA5 helps you grow your real estate interest and knowledge.&rdquo\;<br />\n<br />\nTwo business&nbsp\;card&nbsp\;draws&nbsp\; - the first for large EVES Degustation hamper and the second a local Restaurant Voucher.
LOCATION:EVES Hamilton East Shop 1B\, 20 Clyde Street
UID:e.2751.66
SEQUENCE:3
DTSTAMP:20260424T001430Z
URL:https://business.waikatochamber.co.nz/events/details/ba5-eves-real-estate-66
END:VEVENT

END:VCALENDAR
