BEGIN:VCALENDAR
VERSION:2.0
PRODID:-//ChamberMaster//Event Calendar 2.0//EN
METHOD:PUBLISH
X-PUBLISHED-TTL:P3D
REFRESH-INTERVAL:P3D
CALSCALE:GREGORIAN
BEGIN:VEVENT
DTSTART:20170215T040000Z
DTEND:20170215T060000Z
X-MICROSOFT-CDO-ALLDAYEVENT:FALSE
SUMMARY:BA5: Engineering the Waikato with BECA
DESCRIPTION:Come and hear BECA talk about the Waikato Expressway Alliance Project!\n			\n		\n		\n			\n			Join the team at Beca for a casual networking evening as we launch into 2017. \n\n			The Waikato and NZ generally is in the thick of a sustained period of growth in the infrastructure and building industries.  As NZ's largest professional services and engineering consultancy\, Beca is involved in a range of projects contributing and responding to this growth.  The Beca team will provide an update on progress on the largest infrastructure project currently being undertaken in the region\, being the Hamilton Section of the Waikato Expressway
X-ALT-DESC;FMTTYPE=text/html:<table border="0" cellpadding="1" cellspacing="1" style="width: 500px\;">\n	<tbody>\n		<tr>\n			<td>\n			<h2>Come and hear BECA talk about the Waikato Expressway Alliance Project!</h2>\n			</td>\n		</tr>\n		<tr>\n			<td>\n			<p>Join the team at Beca for a casual networking evening as we launch into 2017.&nbsp\;</p>\n\n			<p>The Waikato and NZ generally is in the thick of a sustained period of growth in the infrastructure and building industries.&nbsp\; As NZ&rsquo\;s largest professional services and engineering consultancy\, Beca is involved in a range of projects contributing and responding to this growth.&nbsp\; The Beca team will provide an update on progress on the largest infrastructure project currently being undertaken in the region\, being the Hamilton Section of the Waikato Expressway</p>\n			</td>\n		</tr>\n	</tbody>\n</table>\n
LOCATION:Level 2\, Waitomo House\, 6 Garden Place Hamilton
UID:e.2751.33
SEQUENCE:3
DTSTAMP:20260424T091504Z
URL:https://business.waikatochamber.co.nz/events/details/ba5-engineering-the-waikato-with-beca-33
END:VEVENT

END:VCALENDAR
