BEGIN:VCALENDAR
VERSION:2.0
PRODID:-//ChamberMaster//Event Calendar 2.0//EN
METHOD:PUBLISH
X-PUBLISHED-TTL:P3D
REFRESH-INTERVAL:P3D
CALSCALE:GREGORIAN
BEGIN:VEVENT
DTSTART:20190313T040000Z
DTEND:20190313T060000Z
X-MICROSOFT-CDO-ALLDAYEVENT:FALSE
SUMMARY:BA5: Duncan & Ebbett
DESCRIPTION:Duncan & Ebbett are hosting this month's BA5 with the intention of showcasing their Volvo brand of vehicles.\n\n\n\nVolvo's leading international product trainer\, James Moore\, is now based in New Zealand and will be there to talk through the Volvo brand and their current range of vehicles and will be following up the presentation with a Q&A session.\n\n\n\nStart thinking of questions to challenge James' product knowledge!\n\n\n\nDuncan & Ebbett have been in their brand new premises on the corner of Maahanga Drive and Te Kowhai Road at The Base for just over a year and are loving the new clean and crisp design of their new showroom.\n\n\n\nJoin us for drinks and nibbles in the Volvo showroom on Wednesday the 13th of March.
X-ALT-DESC;FMTTYPE=text/html:<strong>Duncan &amp\; Ebbett are hosting this month&rsquo\;s BA5 with the intention of showcasing their Volvo brand of vehicles.</strong><br />\n<br />\nVolvo&rsquo\;s leading international product trainer\, James Moore\, is now based in New Zealand and will be there to talk through the Volvo brand and their current range of vehicles and will be following up the presentation with a Q&amp\;A session.<br />\n<br />\n<em>Start thinking of questions to challenge James&rsquo\; product knowledge!</em><br />\n<br />\nDuncan &amp\; Ebbett have been in their brand new premises on the corner of Maahanga Drive and Te Kowhai Road at The Base for just over a year and are loving the new clean and crisp design of their new showroom.<br />\n<br />\nJoin us for drinks and nibbles in the Volvo showroom on Wednesday the 13th of March.
LOCATION:Corner Maahanga Drive & Te Kowhai Road East Te Rapa\, Hamilton
UID:e.2751.2626
SEQUENCE:3
DTSTAMP:20260422T173115Z
URL:https://business.waikatochamber.co.nz/events/details/ba5-duncan-ebbett-2626
END:VEVENT

END:VCALENDAR
