BEGIN:VCALENDAR
VERSION:2.0
PRODID:-//ChamberMaster//Event Calendar 2.0//EN
METHOD:PUBLISH
X-PUBLISHED-TTL:P3D
REFRESH-INTERVAL:P3D
CALSCALE:GREGORIAN
BEGIN:VEVENT
DTSTART:20170419T050000Z
DTEND:20170419T070000Z
X-MICROSOFT-CDO-ALLDAYEVENT:FALSE
SUMMARY:BA5: Cloud Computing and Disaster Recovery
DESCRIPTION:Elite Business Systems has been in the Waikato for 29 years and was proud to be part of the Waikato Business Awards in 2016   becoming a finalist in both the Service Excellence and CEO categories.\n\nThis is an opportunity to meet and mingle with the Elite team   a remarkable group of experts in their fields. Come along to learn about the full range of technology that Elite can offer\, hear a little about how to protect your business on a day to day basis\, and how Elite can help your business to recover swiftly if some form of disaster (natural or cyber) strikes your business.
X-ALT-DESC;FMTTYPE=text/html:<p>Elite Business Systems has been in the Waikato for 29 years and was proud to be part of the Waikato Business Awards in 2016 &ndash\; becoming a finalist in both the Service Excellence and CEO categories.</p>\n\n<p>This is an opportunity to meet and mingle with the Elite team &ndash\; a remarkable group of experts in their fields. Come along to&nbsp\;learn about the full range of technology that Elite can offer\,&nbsp\;hear a little about how to protect your business on a day to day basis\, and how Elite can help your business to recover swiftly&nbsp\;if some form of disaster (natural or cyber) strikes your business.&nbsp\;</p>\n
LOCATION:15 Greenwood Street\, Hamilton
UID:e.2751.40
SEQUENCE:3
DTSTAMP:20260424T052111Z
URL:https://business.waikatochamber.co.nz/events/details/ba5-cloud-computing-and-disaster-recovery-40
END:VEVENT

END:VCALENDAR
