BEGIN:VCALENDAR
VERSION:2.0
PRODID:-//ChamberMaster//Event Calendar 2.0//EN
METHOD:PUBLISH
X-PUBLISHED-TTL:P3D
REFRESH-INTERVAL:P3D
CALSCALE:GREGORIAN
BEGIN:VEVENT
DTSTART:20170919T050000Z
DTEND:20170919T073000Z
X-MICROSOFT-CDO-ALLDAYEVENT:FALSE
SUMMARY:BA5: Cleland Hancox
DESCRIPTION:Cleland Hancox Limited (CHL) is a Chartered Accountancy practice based in Hamilton and Morrinsville. CHL have been providing exceptional client focused business solutions for over 25 years with the aim of empowering their clients to meet compliance obligations and financial goals\, as well as providing relevant business advice. CHL cater for businesses in various stages of the life cycle\, from start-ups to future proofing and planning for succession. CHL is also a part of a wider network of independent Australasian professional firms\, Walker Wayland Australasia Limited (WWA). The BA5 will see a guest from WWA describe examples of what successful SME?s in Australia are doing and how New Zealand SME?s can benefit.
X-ALT-DESC;FMTTYPE=text/html:Cleland Hancox Limited (CHL) is a Chartered Accountancy practice based in Hamilton and Morrinsville. CHL have been providing exceptional client focused business solutions for over 25 years with the aim of empowering their clients to meet compliance obligations and financial goals\, as well as providing relevant business advice. CHL cater for businesses in various stages of the life cycle\, from start-ups to future proofing and planning for succession. CHL is also a part of a wider network of independent Australasian professional firms\, Walker Wayland Australasia Limited (WWA). The BA5 will see a guest from WWA describe examples of what successful SME?s in Australia are doing and how New Zealand SME?s can benefit.
LOCATION:Cleland Hancox Ltd | Level 3\, 18 London Street
UID:e.2751.72
SEQUENCE:3
DTSTAMP:20260423T223503Z
URL:https://business.waikatochamber.co.nz/events/details/ba5-cleland-hancox-72
END:VEVENT

END:VCALENDAR
