BEGIN:VCALENDAR
VERSION:2.0
PRODID:-//ChamberMaster//Event Calendar 2.0//EN
METHOD:PUBLISH
X-PUBLISHED-TTL:P3D
REFRESH-INTERVAL:P3D
CALSCALE:GREGORIAN
BEGIN:VEVENT
DTSTART:20180221T040000Z
DTEND:20180221T060000Z
X-MICROSOFT-CDO-ALLDAYEVENT:FALSE
SUMMARY:BA5: AON Insurance Brokers
DESCRIPTION:After approximately five years of reducing insurance premiums\, there have been rapid changes in the insurance market which will affect every sized business. This year it will becomes vitally important to understand those changes\, relative to your business. \n\n \n\nAon is New Zealand's leading provider of insurance broking\, risk management and associated services. Aon has 12 branches here in Waikato and a total of 77 right around the nation. They are a proud major partner of the Waikato's Gallagher Chiefs and Rowing New Zealand. \n\n \n\nJoin us at Business After 5 with Aon\, for an insurance market overview including a focus on understanding what cyber risk is\, what's currently happening with Fire Service Levies\, how premiums for assets are affected by earthquakes and why insurers are struggling with vehicle claims.
X-ALT-DESC;FMTTYPE=text/html:<span style="font-family:arial\;"><span style="font-size:10.0pt\;">After approximately five years of reducing insurance premiums\, there have been rapid changes in the insurance market which will affect every sized business. This year it will becomes vitally important to understand those changes\, relative to your business. </span><br />\n&nbsp\;<br />\n<span style="font-size:10.0pt\;">Aon is New Zealand&rsquo\;s leading provider of insurance broking\, risk management and associated services. Aon has 12 branches here in Waikato and a total of 77 right around the nation. They are a proud major partner of the Waikato&rsquo\;s Gallagher Chiefs and Rowing New Zealand. </span><br />\n&nbsp\;<br />\n<span style="font-size:10.0pt\;">Join us at Business After 5 with Aon\, for an insurance market overview including a focus on understanding what cyber risk is\, what&rsquo\;s currently happening with Fire Service Levies\, how premiums for assets are affected by earthquakes and why insurers are struggling with vehicle claims. </span><br />\n&nbsp\;</span><br />\n<br />\n<br />\n&nbsp\;
LOCATION:AON Insurance Brokers\, 85 Tristram St\, Hamilton
UID:e.2751.64
SEQUENCE:3
DTSTAMP:20260423T124605Z
URL:https://business.waikatochamber.co.nz/events/details/ba5-aon-insurance-brokers-64
END:VEVENT

END:VCALENDAR
