BEGIN:VCALENDAR
VERSION:2.0
PRODID:-//ChamberMaster//Event Calendar 2.0//EN
METHOD:PUBLISH
X-PUBLISHED-TTL:P3D
REFRESH-INTERVAL:P3D
CALSCALE:GREGORIAN
BEGIN:VEVENT
DTSTART:20210629T040000Z
DTEND:20210629T060000Z
X-MICROSOFT-CDO-ALLDAYEVENT:FALSE
SUMMARY:BA4: YWCA Hamilton
DESCRIPTION:Join us for a Business After Four event hosted by YWCA Hamilton\n\n\n\nYWCA is a global movement working for women's empowerment\, leadership and rights. The YWCA of Hamilton is a not-for-profit organization that has a vision of every woman in Waikato being supported to achieve success\, whatever success looks like for her. We work towards a future where everyone has the same opportunities in life regardless of their gender. With our GenderTick  programme we enable organisations to become safe and equal spaces for women. We amplify the voices of young women through initiatives like the Y25 List that features 25 incredible young women\, aged 25 years or younger\, who are future leaders in their fields.
X-ALT-DESC;FMTTYPE=text/html:<br />\n<br />\n<span style="font-size:18px\;"><span style="font-family:arial\;">Join us for a Business After Four event hosted by YWCA Hamilton</span></span><br />\n<br />\n<span style="font-size:16px\;">YWCA is a global movement working for women&rsquo\;s empowerment\, leadership and rights. The YWCA of Hamilton is a not-for-profit organization that has a vision of every woman in Waikato being supported to achieve success\, whatever success looks like for her. We work towards a future where everyone has the same opportunities in life regardless of their gender. With our GenderTick&trade\; programme we enable organisations to become safe and equal spaces for women. We amplify the voices of young women through initiatives like the Y25 List that features 25 incredible young women\, aged 25 years or younger\, who are future leaders in their fields.</span><br />\n&nbsp\;
LOCATION:Te Whare Wahine\, YWCA\, corner of Clarence and Pembroke Streets
UID:e.2751.2817
SEQUENCE:3
DTSTAMP:20260426T040954Z
URL:https://business.waikatochamber.co.nz/events/details/ba4-ywca-hamilton-2817
END:VEVENT

END:VCALENDAR
