BEGIN:VCALENDAR
VERSION:2.0
PRODID:-//ChamberMaster//Event Calendar 2.0//EN
METHOD:PUBLISH
X-PUBLISHED-TTL:P3D
REFRESH-INTERVAL:P3D
CALSCALE:GREGORIAN
BEGIN:VEVENT
DTSTART:20220928T030000Z
DTEND:20220928T050000Z
X-MICROSOFT-CDO-ALLDAYEVENT:FALSE
SUMMARY:BA4: Waikato Innovation Park
DESCRIPTION:Join us for our September BA4 hosted by Waikato Innovation Park.  \n\n\n\nWaikato Innovation Park want their event to be more than a networking event. We want members to take away some learnings.  A real topic of interest for business owners is employment of new staff or particular Immigration. What are the present immigration settings? What is the Government saying and what is actually happening out there?  How would I go about reaching out to obtain a new employee from overseas?\n\n\n\nWe have therefore invited Waikato Innovation Park tenants Tobias Tohill   Founder of UVISA Immigration Specialists and Senga Allen Founder of Everest People to speak briefly to you.   These two speakers will share their insights for a maximum of 9 minutes plus a 1 minute allowance for a question or two.  Followed by 3 minutes from Stuart Gordon Waikato Innovation Park CEO about the Park. \n\n\n\nWe look forward to seeing you at this event to experience Waikato Innovation Park first hand.   Be in to win hireage of the Conference Centre for a day valued at $480 + GST by simply entering the business card draw!
X-ALT-DESC;FMTTYPE=text/html:<span style="font-size:14px\;"><span style="font-family:arial\;">Join us for our September BA4 hosted by Waikato Innovation Park.&nbsp\;&nbsp\;<br />\n<br />\nWaikato Innovation Park want their event to be<strong> more than a networking event</strong>. We want members to take away some learnings.&nbsp\; A real topic of interest for business owners is employment of new staff or particular Immigration. What are the present immigration settings? What is the Government saying and what is actually happening out there?&nbsp\; How would I go about reaching out to obtain a new employee from overseas?<br />\n<br />\nWe have therefore invited Waikato Innovation Park tenants <a href="https://www.linkedin.com/in/tobiastohill/?originalSubdomain=nz">Tobias Tohill</a> &ndash\; Founder of UVISA Immigration Specialists and <a href="https://www.linkedin.com/in/sengaallen/?originalSubdomain=nz">Senga Allen</a> Founder of Everest People to speak briefly to you.&nbsp\; &nbsp\;These two speakers will share their insights for a maximum of 9 minutes plus a 1 minute allowance for a question or two.&nbsp\;&nbsp\;</span></span><span style="font-size:14px\;"><span style="font-family:arial\;">Followed by 3 minutes from <a href="https://www.linkedin.com/in/stuart-gordon-89030615/?originalSubdomain=nz">Stuart Gordon</a>&nbsp\;Waikato Innovation Park CEO&nbsp\;about the Park.&nbsp\;</span></span><br />\n<br />\n<span style="font-size:14px\;"><span style="font-family:arial\;">We look forward to seeing you at this event to experience Waikato Innovation Park first hand.&nbsp\; &nbsp\;Be in to win hireage of the Conference Centre for a day valued at $480 + GST by simply entering the business card draw!&nbsp\;&nbsp\;</span></span><br />\n<br />\n&nbsp\;
LOCATION:Park Central at Waikato Innovation Park\, 3 Melody Lane\, Ruakura\, Hamilton See below map for location and parking details.
UID:e.2751.3925
SEQUENCE:3
DTSTAMP:20260425T191844Z
URL:https://business.waikatochamber.co.nz/events/details/ba4-waikato-innovation-park-3925
END:VEVENT

END:VCALENDAR
