BEGIN:VCALENDAR
VERSION:2.0
PRODID:-//ChamberMaster//Event Calendar 2.0//EN
METHOD:PUBLISH
X-PUBLISHED-TTL:P3D
REFRESH-INTERVAL:P3D
CALSCALE:GREGORIAN
BEGIN:VEVENT
DTSTART:20231130T030000Z
DTEND:20231130T050000Z
X-MICROSOFT-CDO-ALLDAYEVENT:FALSE
SUMMARY:BA4: Resolution 8 Digital Advisory
DESCRIPTION:Join us for the November BA4 with Resolution 8 Digital Advisory. Resolution 8 Digital Advisory is a consultancy based in the Waikato with clients across New Zealand. Our team will work with you to provide strategic technology insights and operational excellence for your organisation. Our goal is to improve your IT ecosystem and allow you to get best value from your investments. \n\n \n\nOur services include:\n\n\n	CIO as a Service\n	Strategy\n	Service optimisation\n	Infrastructure\n	Software lifecycle\n	Procurement / RFP\n	IT audit and reporting\n\n \n\nWe invite you to join us at the new P  at the University of Waikato. The main hall is an impressive space that will allow us time to chat\, socialise and view some amazing robot creations by Nick Pickering and his team.\n\n \n\nPoints on the presentation to be:\n\n\n	Resolution 8 Digital Advisory: welcome and outline of our services.\n	HIKO Hub offering :  overview of a new collaboration and co working space at the university.\n	Nick Pickering: on the use of Robotics to solve real world problems\n	Demonstrations of real world robots design by Nick and his team\n\n\nRemember your business card to enter the fabulous prize draw of a $230 Camarosa voucher and $150 Canopy voucher!
X-ALT-DESC;FMTTYPE=text/html:<p><span style="font-size:14px\;"><span style="font-family:arial\;"><span style="color:#000000\;">Join us for the November&nbsp\;BA4 with </span><a href="https://www.resolution8.com/"><u>Resolution 8 Digital Advisory</u></a><span style="color:#000000\;">.&nbsp\;Resolution 8 Digital Advisory is a consultancy based in the Waikato with clients across New Zealand. Our team will work with you to provide&nbsp\;strategic technology insights and operational excellence for your organisation. Our goal is to improve your IT ecosystem and allow you to get best value from your investments.&nbsp\;</span><br />\n<span style="color:#000000\;">&nbsp\;<br />\nOur services include:</span></span></span></p>\n\n<ul>\n	<li><span style="font-size:14px\;"><span style="font-family:arial\;"><span style="color:#000000\;">CIO as a Service</span></span></span></li>\n	<li><span style="font-size:14px\;"><span style="font-family:arial\;"><span style="color:#000000\;">Strategy</span></span></span></li>\n	<li><span style="font-size:14px\;"><span style="font-family:arial\;"><span style="color:#000000\;">Service optimisation</span></span></span></li>\n	<li><span style="font-size:14px\;"><span style="font-family:arial\;"><span style="color:#000000\;">Infrastructure</span></span></span></li>\n	<li><span style="font-size:14px\;"><span style="font-family:arial\;"><span style="color:#000000\;">Software lifecycle</span></span></span></li>\n	<li><span style="font-size:14px\;"><span style="font-family:arial\;"><span style="color:#000000\;">Procurement / RFP</span></span></span></li>\n	<li><span style="font-size:14px\;"><span style="font-family:arial\;"><span style="color:#000000\;">IT audit and reporting</span></span></span></li>\n</ul>\n<span style="font-size:14px\;"><span style="font-family:arial\;"><span style="color:#000000\;">&nbsp\;<br />\nWe invite you to join us at the new P</span></span></span><span style="color: rgb(0\, 0\, 0)\; font-size: 14px\;">&#257\;</span><span style="font-size:14px\;"><span style="font-family:arial\;"><span style="color:#000000\;">&nbsp\;at the University of Waikato. The main hall is an impressive space that will allow us time to chat\, socialise and view some amazing robot creations by Nick Pickering and his team.</span><br />\n&nbsp\;<br />\n<span style="color:black\;">Points on the presentation to be:</span></span></span>\n\n<ol>\n	<li><span style="font-size:14px\;"><span style="font-family:arial\;"><span style="color:black\;">Resolution 8 Digital Advisory: welcome and outline of our services.</span></span></span></li>\n	<li><span style="font-size:14px\;"><span style="font-family:arial\;"><span style="color:black\;">HIKO Hub offering :&nbsp\; overview of a new collaboration and co working space at the university.</span></span></span></li>\n	<li><span style="font-size:14px\;"><span style="font-family:arial\;"><span style="color:black\;">Nick Pickering: on the use of Robotics to solve real world problems</span></span></span></li>\n	<li><span style="font-size:14px\;"><span style="font-family:arial\;"><span style="color:#000000\;">Demonstrations of real world robots design by Nick and his team</span></span></span></li>\n</ol>\n\n<p><span style="font-size:14px\;"><span style="font-family:arial\;"><span style="color:black\;">Remember your business card to enter the fabulous prize draw of a $230 <a href="https://www.camarosa.co.nz/">Camarosa</a> voucher and $150 <a href="https://www.canopycamping.co.nz/">Canopy</a> voucher!&nbsp\;</span></span></span></p>\n
LOCATION:The P \, University of Waikato\, Gate 1/Knighton Road\, Hillcrest\, Hamilton. Parking - Gate 8\, Hillcrest Road.
UID:e.2751.4257
SEQUENCE:3
DTSTAMP:20260420T114339Z
URL:https://business.waikatochamber.co.nz/events/details/ba4-resolution-8-digital-advisory-4257
END:VEVENT

END:VCALENDAR
