BEGIN:VCALENDAR
VERSION:2.0
PRODID:-//ChamberMaster//Event Calendar 2.0//EN
METHOD:PUBLISH
X-PUBLISHED-TTL:P3D
REFRESH-INTERVAL:P3D
CALSCALE:GREGORIAN
BEGIN:VEVENT
DTSTART:20220727T040000Z
DTEND:20220727T060000Z
X-MICROSOFT-CDO-ALLDAYEVENT:FALSE
SUMMARY:BA4: NZ Blood Service & Kora
DESCRIPTION:Join us for our July B4A hosted by NZ Blood Service and Kora Fuel Cards.  At this partnership event you will learn about blood donations and how to save money on fuel (who doesn't want that!).  An interactive quiz\, goody bags and business card draw will make for a fun B4A event!   \n\n\n\nPlease note: no blood donations will be taken at this event.   This is a networking event to learn more about NZ Blood and Kora.   \n\n\n\nThe New Zealand Blood Service is the provider of blood services for New Zealand.  Save up to three lives when you give blood.  Book your appointment to save a life online\, download the app or call 0800 GIVE BLOOD (0800 448 325).\n\n\n\nKora is a fuel card company that offers Kiwis a better way to buy petrol or diesel. Kora works with major fuel brands (starting with Waitomo and Mobil).  No more hanging out for special discount days.  With Kora\, you'll save at least 10 cents per litre every day with no limits!\n\n\n\nCome to the event\, sign up for cheaper fuel with Kora\, and go into the draw to win a $500 fuel credit!
X-ALT-DESC;FMTTYPE=text/html:<span style="background:white\;"><span style="color:#4D5156\;"><span style="font-family:arial\,sans-serif\;"><span style="font-size:10.5pt\;">Join us for our July B4A hosted by NZ Blood Service and Kora Fuel Cards.&nbsp\; At this partnership event you will learn about blood donations and how to save money on fuel (who doesn&#39\;t want that!).&nbsp\; An interactive quiz\, goody bags and business card draw will make for a fun B4A event!&nbsp\; &nbsp\;<br />\n<br />\n<strong>Please note: no blood donations will be taken at this event.&nbsp\; &nbsp\;This is a networking event to learn more about NZ Blood and Kora.&nbsp\; &nbsp\;</strong></span></span></span></span><br />\n<br />\n<span style="background:white\;"><span style="color:#4D5156\;"><span style="font-family:arial\,sans-serif\;"><span style="font-size:10.5pt\;">The <a href="https://www.nzblood.co.nz/">New Zealand Blood Service</a> is the provider of blood services for New Zealand.&nbsp\; Save up to three lives when you give&nbsp\;</span></span></span></span><em style="font-variant-ligatures:normal\;font-variant-caps:normal\;orphans:2\;widows:2\;-webkit-text-stroke-width:0px\;text-decoration-thickness:initial\;text-decoration-style:initial\;word-spacing:0px\;"><strong><span style="background:white\;font-style:normal\;"><span style="color:#5F6368\;"><span style="font-family:arial\,sans-serif\;"><span style="font-size:10.5pt\;">blood</span></span></span></span></strong></em><span style="background:white\;"><span style="color:#4D5156\;"><span style="font-family:arial\,sans-serif\;"><span style="font-size:10.5pt\;"><span style="font-variant-ligatures:normal\;font-variant-caps:normal\;orphans:2\;widows:2\;-webkit-text-stroke-width:0px\;text-decoration-thickness:initial\;text-decoration-style:initial\;float:none\;word-spacing:0px\;">. &nbsp\;Book your appointment to save a life online\, download the app or call 0800 GIVE&nbsp\;</span></span></span></span></span><em style="font-variant-ligatures:normal\;font-variant-caps:normal\;orphans:2\;widows:2\;-webkit-text-stroke-width:0px\;text-decoration-thickness:initial\;text-decoration-style:initial\;word-spacing:0px\;"><strong><span style="background:white\;font-style:normal\;"><span style="color:#5F6368\;"><span style="font-family:arial\,sans-serif\;"><span style="font-size:10.5pt\;">BLOOD</span></span></span></span></strong></em><span style="background:white\;"><span style="color:#4D5156\;"><span style="font-family:arial\,sans-serif\;"><span style="font-size:10.5pt\;"><span style="font-variant-ligatures:normal\;font-variant-caps:normal\;orphans:2\;widows:2\;-webkit-text-stroke-width:0px\;text-decoration-thickness:initial\;text-decoration-style:initial\;float:none\;word-spacing:0px\;">&nbsp\;(0800 448 325).</span></span></span></span></span><br />\n<br />\n<em style="font-variant-ligatures:normal\;font-variant-caps:normal\;orphans:2\;widows:2\;-webkit-text-stroke-width:0px\;text-decoration-thickness:initial\;text-decoration-style:initial\;word-spacing:0px\;"><span style="background: white\; font-style: normal\;"><span style="font-family: arial\, sans-serif\;"><span style="font-size: 10.5pt\;"><font color="#4d5156"><a href="https://kora.co.nz/">Kora</a> is a&nbsp\;</font><font color="#5f6368"><b>fuel card</b></font></span></span></span></em><span style="background:white\;"><span style="color:#4D5156\;"><span style="font-family:arial\,sans-serif\;"><span style="font-size:10.5pt\;"><span style="font-variant-ligatures:normal\;font-variant-caps:normal\;orphans:2\;widows:2\;-webkit-text-stroke-width:0px\;text-decoration-thickness:initial\;text-decoration-style:initial\;float:none\;word-spacing:0px\;">&nbsp\;company that offers Kiwis a better way to buy petrol or diesel. Kora works with major fuel brands (starting with Waitomo and Mobil).&nbsp\; </span><span style="background:white\;"><span style="color:#212529\;"><span style="font-family:arial\,sans-serif\;">No more hanging out for special discount days.&nbsp\; With Kora\, you&#39\;ll save at least 10 cents per litre every day with no limits!</span></span></span></span></span></span></span><br />\n<br />\n<strong><span style="font-size:14px\;"><span style="font-family:arial\;">Come to the event\, sign up for cheaper fuel with Kora\, and go into the draw to win a $500 fuel credit!</span></span></strong><br />\n&nbsp\;
LOCATION:The District 19 Home Straight\, Te Rapa\, Hamilton 3200
UID:e.2751.3870
SEQUENCE:3
DTSTAMP:20260425T180119Z
URL:https://business.waikatochamber.co.nz/events/details/ba4-nz-blood-service-kora-3870
END:VEVENT

END:VCALENDAR
