BEGIN:VCALENDAR
VERSION:2.0
PRODID:-//ChamberMaster//Event Calendar 2.0//EN
METHOD:PUBLISH
X-PUBLISHED-TTL:P3D
REFRESH-INTERVAL:P3D
CALSCALE:GREGORIAN
BEGIN:VEVENT
DTSTART:20190618T040000Z
DTEND:20190618T060000Z
X-MICROSOFT-CDO-ALLDAYEVENT:FALSE
SUMMARY:BA4: Maisey Harris & Co
DESCRIPTION:Join us for a Business After Four event hosted by award-winning accountants Maisey Harris & Co.\n\n\n\nMaisey Harris & Co (MHCO) are Chartered Accountants and Business Facilitators & Enablers\, bringing a fresh new approach to an old-fashioned profession.\n\n\n\nFrom humble beginnings\, MHCO was born with a vision to satisfy a need. Typical accountants were falling short of the mark\, we created an accounting business from the ground up\, without the legacy systems or constraints that often exist.\n\n\n\nWe have our eyes firmly set on shifting the typical accounting paradigm. As Xero Platinum Partners\, the online accounting software\, and using fixed-price packages\, we are able to focus on looking forward instead of backwards like traditional accountants do. Identifying opportunities and providing real solution to help you get where you want to be.\n\n\n\nBased in Hamilton and currently expanding to Tauranga\, we are proud to be the 2018 NZ Xero Accounting Partner of the Year and winners of the Micro Business of the Year award at the 2018 Waikato Chamber Business Awards.\n\n\n\nWe are excited to invite the Waikato business community to come join us for an evening of drinks and nibbles\, check out our office\, and learn a bit more about how do things differently here at MHCO.
X-ALT-DESC;FMTTYPE=text/html:Join us for a Business After Four event hosted by award-winning accountants Maisey Harris &amp\; Co.<br />\n<br />\nMaisey Harris &amp\; Co (MHCO) are Chartered Accountants and Business Facilitators &amp\; Enablers\, bringing a fresh new approach to an old-fashioned profession.<br />\n<br />\nFrom humble beginnings\, MHCO was born with a vision to satisfy a need. Typical accountants were falling short of the mark\, we created an accounting business from the ground up\, without the legacy systems or constraints that often exist.<br />\n<br />\nWe have our eyes firmly set on shifting the typical accounting paradigm. As Xero Platinum Partners\, the online accounting software\, and using fixed-price packages\, we are able to focus on looking forward instead of backwards like traditional accountants do. Identifying opportunities and providing real solution to help you get where you want to be.<br />\n<br />\nBased in Hamilton and currently expanding to Tauranga\, we are proud to be the 2018 NZ Xero Accounting Partner of the Year and winners of the Micro Business of the Year award at the 2018 Waikato Chamber Business Awards.<br />\n<br />\nWe are excited to invite the Waikato business community to come join us for an evening of drinks and nibbles\, check out our office\, and learn a bit more about how do things differently here at MHCO.<br />\n&nbsp\;
LOCATION:Maisey Harris & Co. 910 Victoria Street\, Hamilton Central
UID:e.2751.2656
SEQUENCE:3
DTSTAMP:20260420T204416Z
URL:https://business.waikatochamber.co.nz/events/details/ba4-maisey-harris-co-2656
END:VEVENT

END:VCALENDAR
