BEGIN:VCALENDAR
VERSION:2.0
PRODID:-//ChamberMaster//Event Calendar 2.0//EN
METHOD:PUBLISH
X-PUBLISHED-TTL:P3D
REFRESH-INTERVAL:P3D
CALSCALE:GREGORIAN
BEGIN:VEVENT
DTSTART:20220824T040000Z
DTEND:20220824T060000Z
X-MICROSOFT-CDO-ALLDAYEVENT:FALSE
SUMMARY:BA4: Jet Park Hotel Hamilton Airport
DESCRIPTION:Join us for our August BA4 hosted by Jet Park Hotel Hamilton Airport.\n\n\n\nTake the stress out of travelling and relax in quiet comfort surrounded by the green pastures of the Waikato countryside. Enjoy a pleasant respite with all of the amenities\, just an easy 5-minute walk from Hamilton Airport\, and let our helpful staff take care of everything so that you can rise recharged and ready for the day... and whatever adventures it brings.
X-ALT-DESC;FMTTYPE=text/html:<span style="font-size:14px\;"><span style="font-family:arial\;">Join us for our August BA4 hosted by Jet Park Hotel Hamilton Airport.<br />\n<br />\nTake the stress out of travelling and relax in quiet comfort surrounded by the green pastures of the Waikato countryside. Enjoy a pleasant respite with all of the amenities\, just an easy 5-minute walk from Hamilton Airport\, and let our helpful staff take care of everything so that you can rise recharged and ready for the day... and whatever adventures it brings.</span></span><br />\n&nbsp\;
LOCATION:201 Airport Road\, Hamilton 3282
UID:e.2751.3922
SEQUENCE:3
DTSTAMP:20260425T180307Z
URL:https://business.waikatochamber.co.nz/events/details/ba4-jet-park-hotel-hamilton-airport-3922
END:VEVENT

END:VCALENDAR
