BEGIN:VCALENDAR
VERSION:2.0
PRODID:-//ChamberMaster//Event Calendar 2.0//EN
METHOD:PUBLISH
X-PUBLISHED-TTL:P3D
REFRESH-INTERVAL:P3D
CALSCALE:GREGORIAN
BEGIN:VEVENT
DTSTART:20240221T030000Z
DTEND:20240221T050000Z
X-MICROSOFT-CDO-ALLDAYEVENT:FALSE
SUMMARY:BA4: iCLAW
DESCRIPTION:Join us for the first BA4 of 2024 with iCLAW. \n\n*This event is at capacity. Please register to be added to the waitlist*\n\n\n\nJoin us as Aasha and Owen\, iCLAW's founders\, share their journey from working as cogs in large\, corporate law firms to building a contemporary law practice with over 30 staff and offices across the Waikato\, BOP\, Coromandel\, and Hong Kong. \n\n\n\nWe defy tradition and challenge the status quo\, pushing boundaries to uplift the legal profession\, our team\, and our community.\n\n\n\nWe pride ourselves on understanding our clients\, their needs - personally and strategically. What sets us apart is our ability to provide the highest quality advice that is strategically relevant and delivered ahead of client expectations.\n\n\n\nWe proudly lean into our clients\, always looking to add strategic value. When our clients win\, the community we operate in wins\, and we win.\n\nRemember your business card to enter the giveaway prize draw for your chance to win a $500 Mr Pickles voucher!
X-ALT-DESC;FMTTYPE=text/html:<p><span style="color:#000000\;"><span style="font-size:14px\;"><span style="font-family:arial\;">Join us for the first&nbsp\;BA4 of 2024 with iCLAW.&nbsp\;</span></span></span></p>\n\n<p><span style="color:#000000\;"><strong><span style="font-size:14px\;"><span style="font-family:arial\;">*This event is at capacity. Please register to be added to the waitlist*</span></span></strong><br />\n<br />\n<span style="font-size:14px\;"><span style="font-family:arial\;">Join us as Aasha and Owen\, iCLAW&#39\;s founders\, share their journey from working as cogs in large\, corporate law firms to building a contemporary law practice with over 30 staff and offices across the Waikato\, BOP\, Coromandel\, and Hong Kong.&nbsp\;<br />\n<br />\nWe defy tradition and challenge the status quo\, pushing boundaries to uplift the legal profession\, our team\, and our community.<br />\n<br />\nWe pride ourselves on understanding our clients\, their needs - personally and strategically. What sets us apart is our ability to provide the highest quality advice that is strategically relevant and delivered ahead of client expectations.<br />\n<br />\nWe proudly lean into our clients\, always looking to add strategic value. When our clients win\, the community we operate in wins\, and we win.</span></span></span></p>\n\n<p><span style="color:#000000\;"><span style="font-size:14px\;"><span style="font-family:arial\;">Remember your business card to enter the giveaway prize draw for your chance to win a $500 Mr Pickles voucher!</span></span></span></p>\n
LOCATION:iCLAW Level 2/ 286 Victoria Street\, Hamilton Central\, Hamilton 3204
UID:e.2751.4341
SEQUENCE:3
DTSTAMP:20260422T104123Z
URL:https://business.waikatochamber.co.nz/events/details/ba4-iclaw-4341
END:VEVENT

END:VCALENDAR
