BEGIN:VCALENDAR
VERSION:2.0
PRODID:-//ChamberMaster//Event Calendar 2.0//EN
METHOD:PUBLISH
X-PUBLISHED-TTL:P3D
REFRESH-INTERVAL:P3D
CALSCALE:GREGORIAN
BEGIN:VEVENT
DTSTART:20231025T030000Z
DTEND:20231025T050000Z
X-MICROSOFT-CDO-ALLDAYEVENT:FALSE
SUMMARY:BA4: Harkness Henry
DESCRIPTION:Join us for the October BA4 at Harkness Henry. \n\n\n\nHarkness Henry exists to build better lives\, for our clients and our people.  We pride ourselves on providing specialist legal advice alongside great local care to help our clients realise opportunities & solve problems.  We grow our team and their engagement so they can be at their best every day.  Through continual improvement we evolve our business to face the future\, always building on our past\, as a proudly locally owned and operated business with over 140 years' experience in the Waikato.  \n\nRemember your business card to enter to win this fabulous prize- a gift pack as well as $500 of complimentary legal services that can be applied across any one of our specialist areas including commercial\, property\, employment\, litigation/dispute resolution\, resource management/environmental\, private client law (estates/trusts/wills/estate administration)\, relationship property\, local government and alcohol licensing.
X-ALT-DESC;FMTTYPE=text/html:<p><span style="font-size:14px\;"><span style="font-family:arial\;"><span style="color:#000000\;">Join us for the October&nbsp\;BA4 at </span><a href="https://www.harknesshenry.co.nz/"><span style="color:#0000CD\;">Harkness Henry</span></a><span style="color:#000000\;">.</span>&nbsp\;</span></span><br />\n<br />\n<span style="font-size:14px\;"><span style="font-family:arial\;"><span class="normaltextrun"><span style="color:black">Harkness Henry exists to build better lives\, for our clients and our people.&nbsp\; We pride ourselves on </span></span><span class="eop"><span style="color:black">providing </span></span><span class="normaltextrun"><span style="color:black">specialist legal advice alongside great local care to help our clients realise opportunities &amp\; solve problems.&nbsp\; We grow our team and their engagement so they can be at their best every day.&nbsp\; Through continual improvement we evolve our business to face the future</span></span></span></span><span class="eop"><span style="font-size:14px\;"><span style="font-family:arial\;"><span style="color:black">\, always building on our past\, as a proudly locally owned and operated business with over 140 years&rsquo\; experience in the</span> </span></span><span style="color:black"><span style="font-size:14px\;"><span style="font-family:arial\;">Waikato.</span></span>&nbsp\;</span><i><span style="color:black"> </span></i></span><i><span style="color:\nblack"><o:p></o:p></span></i></p>\n\n<p><span style="font-size:14px\;"><span style="font-family:arial\;"><span style="color:black\;">Remember your business card to enter to win this fabulous prize-</span>&nbsp\;<span style="color:#000000\;">a gift pack as well as $500 of complimentary legal services that can be applied across any one of our specialist areas including commercial\, property\, employment\, litigation/dispute resolution\, resource management/environmental\, private client law (estates/trusts/wills/estate administration)\, relationship property\, local government and alcohol licensing.</span></span></span></p>\n
LOCATION:Level 8\, KPMG Centre\, 85 Alexandra Street\, Hamilton
UID:e.2751.4253
SEQUENCE:3
DTSTAMP:20260421T080025Z
URL:https://business.waikatochamber.co.nz/events/details/ba4-harkness-henry-4253
END:VEVENT

END:VCALENDAR
