BEGIN:VCALENDAR
VERSION:2.0
PRODID:-//ChamberMaster//Event Calendar 2.0//EN
METHOD:PUBLISH
X-PUBLISHED-TTL:P3D
REFRESH-INTERVAL:P3D
CALSCALE:GREGORIAN
BEGIN:VEVENT
DTSTART:20200722T040000Z
DTEND:20200722T060000Z
X-MICROSOFT-CDO-ALLDAYEVENT:FALSE
SUMMARY:BA4: Cemac Interiors
DESCRIPTION:The Waikato Chamber and Hamilton Central Business Association are excited to have you join us for a Business After Four event hosted at Cemac Interiors in their brand new studio. \n\n\n\nA bit about Cemac Interiors \n\nOur Experience\n\nWe are locally owned and operated in the Waikato and have been this way since 1991. Our team have a wealth of knowledge and experience and continue to grow as we stay on top of the game with the latest technology and products\, allowing us to bring magic to any workspace.\n\n \n\nOur Philosophy\n\nOur philosophy at Cemac is "creating spaces people love to work in". We aim to improve the experience of a space for the people who work there and the people who visit\, reflecting back on your brand a positive experience.\n\n \n\nOur Work\n\nWe take the time to understand a workspace and the systems that run within it. We use the latest in workspace technology to develop and implement our designs. The result of our persistent attention to detail is an attractive\, functional workspace that increases both mood and productivity of the people within it.
X-ALT-DESC;FMTTYPE=text/html:The Waikato Chamber and Hamilton Central Business Association are excited to have you join us for a Business After Four event hosted at Cemac Interiors in their brand new studio.&nbsp\;<br />\n<br />\nA bit about Cemac Interiors&nbsp\;<br />\nOur Experience<br />\nWe are locally owned and operated in the Waikato and have been this way since 1991. Our team have a wealth of knowledge and experience and continue to grow as we stay on top of the game with the latest technology and products\, allowing us to bring magic to any workspace.<br />\n&nbsp\;<br />\nOur Philosophy<br />\nOur philosophy at Cemac is &ldquo\;creating spaces people love to work in&rdquo\;. We aim to improve the experience of a space for the people who work there and the people who visit\, reflecting back on your brand a positive experience.<br />\n&nbsp\;<br />\nOur Work<br />\nWe take the time to understand a workspace and the systems that run within it. We use the latest in workspace technology to develop and implement our designs. The result of our persistent attention to detail is an attractive\, functional workspace that increases both mood and productivity of the people within it.<br />\n&nbsp\;
LOCATION:22 Harwood Street\, Hamilton
UID:e.2751.2748
SEQUENCE:3
DTSTAMP:20260421T150136Z
URL:https://business.waikatochamber.co.nz/events/details/ba4-cemac-interiors-2748
END:VEVENT

END:VCALENDAR
