BEGIN:VCALENDAR
VERSION:2.0
PRODID:-//ChamberMaster//Event Calendar 2.0//EN
METHOD:PUBLISH
X-PUBLISHED-TTL:P3D
REFRESH-INTERVAL:P3D
CALSCALE:GREGORIAN
BEGIN:VEVENT
DTSTART:20190822T040000Z
DTEND:20190822T060000Z
X-MICROSOFT-CDO-ALLDAYEVENT:FALSE
SUMMARY:BA4: Boffa Miskell
DESCRIPTION:Join us for a Business After Four event hosted by award-winning professional services firm Boffa Miskell Ltd.\n\n \n\nBoffa Miskell has been shaping New Zealand's landscape since 1972 through an integrated design approach and a deeply ingrained culture of sustainability. We are a leading New Zealand professional services firm with a 'one-company' focus\, with offices based in Hamilton\, Auckland\, Tauranga\, Wellington\, Christchurch\, Queenstown and Dunedin.\n\n \n\nBoffa Miskell specialises in the areas of Landscape Architecture\, Planning\, Urban Design\, Biosecurity\, Ecology\, Cultural Advisory and Landscape Planning\, working with a wide range of local and international private and public sector clients. Inquiry and research inform our designs as they occur in the social\, cultural\, environmental\, political and economic context.\n\n \n\nOur experience\, enthusiasm and integrity underpin how we work to achieve successful outcomes in the context of the place\, people and processes we are working with. We believe intelligent design starts with an open mind and mutual respect. Understanding is at the forefront of our approach   we listen\, enquire\, create\, debate\, realise and enjoy.\n\n \n\nWe thrive on being challenged\, and bring our diverse team together to debate\, test and refine both the design and the communication required to realise a project. To this end\, our designs respond to constraints and challenges that allow critical thought\, inspiration and innovation to emerge. We are inspired to create opportunities that add value in the fullest sense   be that social\, cultural or financial. The value we create is real and appropriate for each place.\n\n \n\nEnthusiasm for our work drives us to make a real difference for our clients\, the communities and environments in which we work. We believe our work should engender delight\, connect people with place and\, ultimately\, be sustainable.
X-ALT-DESC;FMTTYPE=text/html:Join us for a Business After Four event hosted by award-winning professional services firm Boffa Miskell Ltd.<br />\n&nbsp\;<br />\nBoffa Miskell has been shaping New Zealand&rsquo\;s landscape since 1972 through an integrated design approach and a deeply ingrained culture of sustainability. We are a leading New Zealand professional services firm with a &lsquo\;one-company&rsquo\; focus\, with offices based in Hamilton\, Auckland\, Tauranga\, Wellington\, Christchurch\, Queenstown and Dunedin.<br />\n&nbsp\;<br />\nBoffa Miskell specialises in the areas of Landscape Architecture\, Planning\, Urban Design\, Biosecurity\, Ecology\, Cultural Advisory and Landscape Planning\, working with a wide range of local and international private and public sector clients. Inquiry and research inform our designs as they occur in the social\, cultural\, environmental\, political and economic context.<br />\n&nbsp\;<br />\nOur experience\, enthusiasm and integrity underpin how we work to achieve successful outcomes in the context of the place\, people and processes we are working with. We believe intelligent design starts with an open mind and mutual respect. Understanding is at the forefront of our approach &ndash\; we listen\, enquire\, create\, debate\, realise and enjoy.<br />\n&nbsp\;<br />\nWe thrive on being challenged\, and bring our diverse team together to debate\, test and refine both the design and the communication required to realise a project. To this end\, our designs respond to constraints and challenges that allow critical thought\, inspiration and innovation to emerge. We are inspired to create opportunities that add value in the fullest sense &ndash\; be that social\, cultural or financial. The value we create is real and appropriate for each place.<br />\n&nbsp\;<br />\nEnthusiasm for our work drives us to make a real difference for our clients\, the communities and environments in which we work. We believe our work should engender delight\, connect people with place and\, ultimately\, be sustainable.
LOCATION:Level 3\, SOUTHBLOC 140 Anglesea Street Hamilton
UID:e.2751.2665
SEQUENCE:3
DTSTAMP:20260422T083921Z
URL:https://business.waikatochamber.co.nz/events/details/ba4-boffa-miskell-2665
END:VEVENT

END:VCALENDAR
