BEGIN:VCALENDAR
VERSION:2.0
PRODID:-//ChamberMaster//Event Calendar 2.0//EN
METHOD:PUBLISH
X-PUBLISHED-TTL:P3D
REFRESH-INTERVAL:P3D
CALSCALE:GREGORIAN
BEGIN:VEVENT
DTSTART:20171024T043000Z
DTEND:20171024T060000Z
X-MICROSOFT-CDO-ALLDAYEVENT:FALSE
SUMMARY:Annual General Meeting 2017
DESCRIPTION:The Annual General Meeting will commence at 5.30pm and all members are encouraged to attend. \n\n			Join us at the 2017 Waikato Chamber of Commerce Annual General Meeting.\n\n			Registrations essential.  Register online or email help@waikatochamber.co.nz\n\n			NOTE: If a member wishes to raise an item of general business for discussion at the AGM\, then the nature of such business and the form of resolution affirming such business needs to have been received in writing by the Chamber no later than 5.00pm Thursday 13 October 2017.
X-ALT-DESC;FMTTYPE=text/html:<table border="0" cellpadding="1" cellspacing="1" style="width: 500px\;">\n	<tbody>\n		<tr>\n			<td>\n			<p><strong>The Annual General Meeting will commence at 5.30pm and all members are encouraged to attend.&nbsp\;</strong></p>\n\n			<p>Join us at the 2017 Waikato Chamber of Commerce Annual General Meeting.</p>\n\n			<p>Registrations essential.&nbsp\; Register online or email <a href="mailto:help@waikatochamber.co.nz?subject=WCOC%20Website%20Enquiry%3A%20AGM">help@waikatochamber.co.nz</a></p>\n\n			<p>NOTE: If a member wishes to raise an item of general business for discussion at the AGM\, then the nature of such business and the form of resolution affirming such business&nbsp\;needs to have&nbsp\;been&nbsp\;received in writing by the Chamber no later than 5.00pm&nbsp\;Thursday 13 October 2017.</p>\n			</td>\n		</tr>\n	</tbody>\n</table>\n\n<p>&nbsp\;</p>\n
LOCATION:Wintec\, Longroom City Campus
UID:e.2751.1076
SEQUENCE:3
DTSTAMP:20260423T193857Z
URL:https://business.waikatochamber.co.nz/events/details/annual-general-meeting-2017-1076
END:VEVENT

END:VCALENDAR
