BEGIN:VCALENDAR
VERSION:2.0
PRODID:-//ChamberMaster//Event Calendar 2.0//EN
METHOD:PUBLISH
X-PUBLISHED-TTL:P3D
REFRESH-INTERVAL:P3D
CALSCALE:GREGORIAN
BEGIN:VEVENT
DTSTART:20180618T053000Z
DTEND:20180618T073000Z
X-MICROSOFT-CDO-ALLDAYEVENT:FALSE
SUMMARY:A League of Extraordinary Women - 18th June
DESCRIPTION:Oh\, ladies\, w hine m \, we?ve started something EXTRAORDINARY!\n\n \n\nLock the date in for our next Waikato?s League of Extraordinary Women ? that magical evening where we don?t bring in amazing women from all over the country because we don?t need to!  We look around us and everywhere we look\, we see EXTRAORDINARY.  Waikato women\, shining bright\, working hard\, achieving great things\, often quietly in the background.  So we?re celebrating them!\n\n \n\nMEET....\n\n \n\nTracey Hook\n\nTracey is currently an Executive Director of Te W nanga o Aotearoa. Tracey had a 14-year career with Tainui Group Holdings\, the commercial arm of Waikato-Tainui\, where her most recent role was the Acting Chief Financial Officer. A mother of three and stepmother of one\, Tracey likes to keep fit\, spend time with her family.  She sees the values Te W nanga o Aotearoa as being aligned to her own personal values\, but on top of that Tracey aims to demonstrate additional values in work and life.\n\n \n\nMeleane Burgess\n\nAn Accountant by profession\, having worked in prominent accounting firms in the Waikato.  A graduate of the University of Waikato Management School\, Meleane is the founder and Chairperson of the Waikato Pacific Business Network Inc\, an organisation set up to support Pacific businesses and professionals. She also took an interest in local politics and was the only Pacific woman to stand in the Hamilton East by-election in early 2018.  Meleane is the director of Dynamic Advisory Ltd\, a company she established to provide business advice and accounting services.\n\n\n\nMichelle Rohleder- aka Michelle Holman\n\nMichelle Holman has two lives: one as the author of five novels and the other as a Registered Nurse and Professional Supervisor. She lives with her husband on a lifestyle block near Cambridge and in her spare time rides her horse and tries not to fall off\, gets taken for walks by the dog and bossed around by two cats.\n\n\n\n  \n\nAnd what?s that\, we hear you ask?  Where?s Shelly?  Worry not\, our evening will\, as always\, be MC?d by the vivacious and keep-you-on-your-toes Shelly Davies.\n\n \n\nWe are so thrilled to have ASB as our sponsors for the evening ? working alongside the Waikato Chamber of Commerce to celebrate\, promote\, and inspire women in the Waikato.\n\n \n\nCome along\, have a drink\, hear some struggles and success stories\, learn from each other\, and most of all\, hang with the girls.  You deserve it!
X-ALT-DESC;FMTTYPE=text/html:<strong>Oh\, ladies\,&nbsp\;w&#257\;hine&nbsp\;m&#257\;\, we?ve started something EXTRAORDINARY!</strong><br>\n&nbsp\;<br>\nLock the date in for our next Waikato?s League of Extraordinary Women ? that magical evening where we don?t bring in amazing women from all over the country because we don?t need to!&nbsp\; We look around us and everywhere we look\, we see EXTRAORDINARY.&nbsp\; Waikato women\, shining bright\, working hard\, achieving great things\, often quietly in the background.&nbsp\; So we?re celebrating them!<br>\n&nbsp\;<br>\nMEET....<br>\n&nbsp\;<br>\n<b>Tracey&nbsp\;Hook</b><br>\nTracey is currently an Executive Director of&nbsp\;Te W&#257\;nanga o Aotearoa. Tracey had a 14-year career with&nbsp\;Tainui Group Holdings\, the commercial arm of Waikato-Tainui\, where her most recent role was the Acting Chief Financial Officer.&nbsp\;A mother of three and stepmother of one\, Tracey likes to keep fit\, spend time with her family. &nbsp\;She sees the values Te W&#257\;nanga o Aotearoa as being aligned to her own personal values\, but on top of that Tracey aims to demonstrate additional values in work and life.<br>\n&nbsp\;<br>\n<strong>Meleane&nbsp\;Burgess</strong><br>\nAn Accountant by profession\, having worked in prominent accounting firms in the Waikato.&nbsp\; A graduate of the University of Waikato Management School\,&nbsp\;Meleane&nbsp\;is the founder and Chairperson of the Waikato Pacific Business Network Inc\, an&nbsp\;organisation&nbsp\;set up to support Pacific businesses and professionals. She also took an interest in local politics and was the only Pacific woman to stand in the Hamilton East by-election in early 2018.&nbsp\;&nbsp\;Meleane&nbsp\;is the director of Dynamic Advisory Ltd\, a company she established to provide business advice and accounting services.<br>\n<br>\nMichelle&nbsp\;Rohleder- aka <strong>Michelle Holman</strong><br>\nMichelle Holman has two lives: one as the author of five novels and the other as a Registered Nurse and Professional Supervisor. She lives with her husband on a lifestyle block near Cambridge and in her spare time rides her horse and tries not to fall off\, gets taken for walks by the dog and bossed around by two cats.<br>\n<br>\n&nbsp\;&nbsp\;<br>\nAnd what?s that\, we hear you ask?&nbsp\; Where?s Shelly?&nbsp\; Worry not\, our evening will\, as always\, be MC?d by the vivacious and keep-you-on-your-toes&nbsp\;<strong>Shelly Davies.</strong><br>\n&nbsp\;<br>\nWe are so thrilled to have&nbsp\;<strong>ASB</strong>&nbsp\;as our sponsors for the evening ? working alongside the Waikato Chamber of Commerce to celebrate\, promote\, and inspire women in the Waikato.<br>\n&nbsp\;<br>\nCome along\, have a drink\, hear some struggles and success stories\, learn from each other\, and most of all\, hang with the girls.&nbsp\; You deserve it!
LOCATION:The Verandah\, Hamilton Lake.
UID:e.2751.2452
SEQUENCE:3
DTSTAMP:20260423T075932Z
URL:https://business.waikatochamber.co.nz/events/details/a-league-of-extraordinary-women-18th-june-2452
END:VEVENT

END:VCALENDAR
