BEGIN:VCALENDAR
VERSION:2.0
PRODID:-//ChamberMaster//Event Calendar 2.0//EN
METHOD:PUBLISH
X-PUBLISHED-TTL:P3D
REFRESH-INTERVAL:P3D
CALSCALE:GREGORIAN
BEGIN:VEVENT
DTSTART:20200512T023000Z
DTEND:20200512T033000Z
X-MICROSOFT-CDO-ALLDAYEVENT:FALSE
SUMMARY:A Conversation with Rt Hon. Sir Bill English
DESCRIPTION:A conversation with Rt Hon. Sir Bill English \n\n\n\nSir Bill English\, former finance minister and Prime Minister of New Zealand\, retired from politics in 2018.\n\nBill sits on the board of ASX listed Wesfarmers Ltd\, is a director of privately owned Mt Cook Alpine Salmon\, The Instillery and is chair and investor in two social technology companies.\n\nHe consults to NZ and Australian companies and governments. In 2019 he was appointed to the NSW Government Federal Financial Relations Review panel focussed on tax reform in Australia.
X-ALT-DESC;FMTTYPE=text/html:<span style="font-size:12px\;"><span style="font-family:arial\;">A conversation with Rt Hon. Sir Bill English&nbsp\;<br />\n<br />\n<span style="color:black\;">Sir Bill English\, former finance minister and Prime Minister of New Zealand\, retired from politics in 2018.</span><br />\n<span style="color:black\;">Bill sits on the board of ASX listed Wesfarmers Ltd\, is a director of privately owned Mt Cook Alpine Salmon\, The Instillery and is chair and investor in two social technology&nbsp\;companies.</span><br />\n<span style="color:black\;">He consults to NZ and Australian companies and governments.&nbsp\;</span>In 2019 he was appointed to the NSW Government Federal Financial Relations Review panel focussed on tax reform in Australia.&nbsp\;</span></span><br />\n&nbsp\;
LOCATION:Webinar - the link to join will be included in the confirmation email sent once you have registered.
UID:e.2751.2723
SEQUENCE:3
DTSTAMP:20260421T200130Z
URL:https://business.waikatochamber.co.nz/events/details/a-conversation-with-rt-hon-sir-bill-english-2723
END:VEVENT

END:VCALENDAR
