BEGIN:VCALENDAR
VERSION:2.0
PRODID:-//ChamberMaster//Event Calendar 2.0//EN
METHOD:PUBLISH
X-PUBLISHED-TTL:P3D
REFRESH-INTERVAL:P3D
CALSCALE:GREGORIAN
BEGIN:VEVENT
DTSTART:20200529T000000Z
DTEND:20200529T004500Z
X-MICROSOFT-CDO-ALLDAYEVENT:FALSE
SUMMARY:A Conversation with Paul Blair\, CEO Infrastructure NZ
DESCRIPTION:A Conversation with Paul Blair - CEO of Infrastructure New Zealand\n\n\n\nInfrastructure New Zealand's vision is For all New Zealanders to enjoy the benefits of world class infrastructure\, CEO Paul Blair will share a presentation about Building Regions: A new collaborative partnership followed by a Q&A session with the audience.
X-ALT-DESC;FMTTYPE=text/html:A Conversation with Paul Blair - CEO of Infrastructure New Zealand<br />\n<br />\nInfrastructure New Zealand&#39\;s vision is For all New Zealanders to enjoy the benefits of world class infrastructure\, CEO Paul Blair will share a presentation about Building Regions: A new collaborative partnership followed by a Q&amp\;A session with the audience.&nbsp\;
LOCATION:Webinar - the link to join will be included in the confirmation email sent once you have registered.
UID:e.2751.2726
SEQUENCE:3
DTSTAMP:20260421T182649Z
URL:https://business.waikatochamber.co.nz/events/details/a-conversation-with-paul-blair-ceo-infrastructure-nz-2726
END:VEVENT

END:VCALENDAR
