BEGIN:VCALENDAR
VERSION:2.0
PRODID:-//ChamberMaster//Event Calendar 2.0//EN
METHOD:PUBLISH
X-PUBLISHED-TTL:P3D
REFRESH-INTERVAL:P3D
CALSCALE:GREGORIAN
BEGIN:VEVENT
DTSTART:20200513T000000Z
DTEND:20200513T010000Z
X-MICROSOFT-CDO-ALLDAYEVENT:FALSE
SUMMARY:A Conversation with Jason Dawson - Chief Executive Hamilton & Waikato Tourism
DESCRIPTION:Join us for a conversation with Jason Dawson\, CEO Hamilton & Waikato Tourism. \n\n\n\nJason oversees the day-to-day running of Hamilton & Waikato Tourism and manages the key relationships with funders\, tourism operators\, local communities\, local government and national agencies for the organisation.
X-ALT-DESC;FMTTYPE=text/html:<span style="font-size:12px\;"><span style="font-family:arial\;"><span style="color:#000000\;">Join us for a conversation with Jason Dawson\, CEO Hamilton &amp\; Waikato Tourism.&nbsp\;</span></span></span><br />\n<br />\n<span style="font-size:12px\;"><span style="font-family:arial\;"><span style="color:#000000\;"><span style="background-color: rgb(255\, 255\, 255)\;">Jason oversees the day-to-day running of Hamilton &amp\; Waikato Tourism and manages the key relationships with funders\, tourism operators\, local communities\, local government and national agencies for the organisation.&nbsp\;</span></span></span></span><br />\n<br />\n&nbsp\;
LOCATION:Webinar - the link to join will be in the confirmation email sent once registered.
UID:e.2751.2725
SEQUENCE:3
DTSTAMP:20260421T183627Z
URL:https://business.waikatochamber.co.nz/events/details/a-conversation-with-jason-dawson-chief-executive-hamilton-waikato-tourism-2725
END:VEVENT

END:VCALENDAR
