BEGIN:VCALENDAR
VERSION:2.0
PRODID:-//ChamberMaster//Event Calendar 2.0//EN
METHOD:PUBLISH
X-PUBLISHED-TTL:P3D
REFRESH-INTERVAL:P3D
CALSCALE:GREGORIAN
BEGIN:VEVENT
DTSTART:20200527T230000Z
DTEND:20200527T234500Z
X-MICROSOFT-CDO-ALLDAYEVENT:FALSE
SUMMARY:A Conversation with Hon Stuart Nash\, Minister for Small Business
DESCRIPTION:A Conversation with Hon Stuart Nash\, Minister for Small Business
X-ALT-DESC;FMTTYPE=text/html:A Conversation with Hon Stuart Nash\, Minister for Small Business
LOCATION:The link to join this online event will be included in the confirmation email you receive once registered.
UID:e.2751.2732
SEQUENCE:3
DTSTAMP:20260421T200151Z
URL:https://business.waikatochamber.co.nz/events/details/a-conversation-with-hon-stuart-nash-minister-for-small-business-2732
END:VEVENT

END:VCALENDAR
