BEGIN:VCALENDAR
VERSION:2.0
PRODID:-//ChamberMaster//Event Calendar 2.0//EN
METHOD:PUBLISH
X-PUBLISHED-TTL:P3D
REFRESH-INTERVAL:P3D
CALSCALE:GREGORIAN
BEGIN:VEVENT
DTSTART:20190227T020000Z
DTEND:20190227T033000Z
X-MICROSOFT-CDO-ALLDAYEVENT:FALSE
SUMMARY:A Conversation with Hon Simon Bridges
DESCRIPTION:Please join us for a Members Exclusive event with the Leader of the Opposition\, Hon Simon Bridges.\n\n\n\nSimon Bridges is the MP for Tauranga and Leader of the National Party.\n\n \n\nIn the last National-led Government\, Simon held several Ministerial roles including Labour\, Energy\, Transport\, Communications\, and Economic Development so he knows the importance of a strong economy.\n\n \n\nPrior to standing for Parliament\, Simon was a senior Crown Prosecutor in the District and High Courts in Tauranga. He graduated from the University of Auckland\, completing a Bachelor of Arts in Political Science and History and a Bachelor of Laws with Honours.  He later completed a Bachelor of Civil Law at the University of Oxford\, where he met his wife Natalie.\n\n \n\nSimon has been an MP since 2008 and he and Natalie live in Tauranga with their young family.
X-ALT-DESC;FMTTYPE=text/html:Please join us for a Members Exclusive event with the Leader of the Opposition\, Hon Simon Bridges.<br />\n<br />\nSimon Bridges is the MP for Tauranga and Leader of the National Party.<br />\n&nbsp\;<br />\nIn the last National-led Government\, Simon held several Ministerial roles including Labour\, Energy\, Transport\, Communications\, and Economic Development so he knows the importance of a strong economy.<br />\n&nbsp\;<br />\nPrior to standing for Parliament\, Simon was a senior Crown Prosecutor in the District and High Courts in Tauranga. He graduated from the University of Auckland\, completing a Bachelor of Arts in Political Science and History and a Bachelor of Laws with Honours.&nbsp\; He later completed a Bachelor of Civil Law at the University of Oxford\, where he met his wife Natalie.<br />\n&nbsp\;<br />\nSimon has been an MP since 2008 and he and Natalie live in Tauranga with their young family.<br />\n&nbsp\;
LOCATION:Mavis Made to Order Wintec House Hamilton
UID:e.2751.2621
SEQUENCE:3
DTSTAMP:20260422T190109Z
URL:https://business.waikatochamber.co.nz/events/details/a-conversation-with-hon-simon-bridges-2621
END:VEVENT

END:VCALENDAR
