BEGIN:VCALENDAR
VERSION:2.0
PRODID:-//ChamberMaster//Event Calendar 2.0//EN
METHOD:PUBLISH
X-PUBLISHED-TTL:P3D
REFRESH-INTERVAL:P3D
CALSCALE:GREGORIAN
BEGIN:VEVENT
DTSTART:20180726T053000Z
DTEND:20180726T073000Z
X-MICROSOFT-CDO-ALLDAYEVENT:FALSE
SUMMARY:A Celebration of Change
DESCRIPTION:"Nothing is constant but change"\n\n\n\nJoin us for a special presentation and celebration as we farewell outgoing Chief Executive William Durning and welcome new Chief Executive Chris Simpson.\n\n\n\nThis event is open to all interested parties\, however registrations are essential.
X-ALT-DESC;FMTTYPE=text/html:<span style="font-size:20px\;"><strong>&quot\;Nothing is constant but change&quot\;</strong></span><br />\n<br />\nJoin us for a special presentation and celebration as we farewell outgoing Chief Executive William Durning&nbsp\;and welcome new Chief Executive Chris Simpson.<br />\n<br />\nThis event is open to all interested parties\, however registrations are essential.&nbsp\;
LOCATION:The Atrium\, Wintec Parking available on-site.
UID:e.2751.2458
SEQUENCE:3
DTSTAMP:20260423T050602Z
URL:https://business.waikatochamber.co.nz/events/details/a-celebration-of-change-2458
END:VEVENT

END:VCALENDAR
