BEGIN:VCALENDAR
VERSION:2.0
PRODID:-//ChamberMaster//Event Calendar 2.0//EN
METHOD:PUBLISH
X-PUBLISHED-TTL:P3D
REFRESH-INTERVAL:P3D
CALSCALE:GREGORIAN
BEGIN:VEVENT
DTSTART:20220921T050000Z
DTEND:20220921T070000Z
X-MICROSOFT-CDO-ALLDAYEVENT:FALSE
SUMMARY:2022 Waikato Business Awards Finalist Announcement
DESCRIPTION:Join us as we announce the finalists of 2022 Waikato Business Awards supported by Foster Construction Group.\n\n\n\nThese awards empower business and recognise excellence\, and we are so excited to announce the deserving finalists.   \n\n\n\nSpaces are limited to 100 people\, please secure your space now if you will be attending.
X-ALT-DESC;FMTTYPE=text/html:<span style="font-size:14px\;"><span style="font-family:arial\;">Join us as we announce the finalists of 2022 Waikato Business Awards supported by <a href="https://www.fosters.co.nz/" target="_blank">Foster Construction Group</a>.</span></span><br />\n<br />\n<span style="font-family: &quot\;PT Sans&quot\;\, Helvetica\, Arial\, sans-serif\; font-size: 15px\; background-color: rgb(255\, 255\, 255)\;"><span style="font-size:14px\;"><span style="font-family:arial\;">These awards empower business and recognise excellence\, and we are so excited to announce the deserving finalists.&nbsp\; </span></span></span><span style="font-family: &quot\;PT Sans&quot\;\, Helvetica\, Arial\, sans-serif\; font-size: 15px\; background-color: rgb(255\, 255\, 255)\;">&nbsp\;</span><br />\n<br />\n<span style="font-size:14px\;"><span style="font-family:arial\;">Spaces are limited to 100 people\, please secure your space now if you will be attending.</span></span>
LOCATION:Events Room 1 - Bill Gallagher Centre\, Wintec CBD. Complimentary car parking is available in the Wintec Staff carpark after 4.30pm ? access is via Nisbet St (off Ward St).
UID:e.2751.3928
SEQUENCE:3
DTSTAMP:20260425T192323Z
URL:https://business.waikatochamber.co.nz/events/details/2022-waikato-business-awards-finalist-announcement-3928
END:VEVENT

END:VCALENDAR
