BEGIN:VCALENDAR
VERSION:2.0
PRODID:-//ChamberMaster//Event Calendar 2.0//EN
METHOD:PUBLISH
X-PUBLISHED-TTL:P3D
REFRESH-INTERVAL:P3D
CALSCALE:GREGORIAN
BEGIN:VEVENT
DTSTART:20170124T200000Z
DTEND:20170124T213000Z
X-MICROSOFT-CDO-ALLDAYEVENT:FALSE
SUMMARY:2017 - POWER UP!
DESCRIPTION:This time next year.... what do you want to say you did in 2017?\n\n\n	What will fulfill you and matter most?\n	What will you achieve and how will you go beyond your own expectations?\n	How will you get the best out of yourself and others?\n\n\nAndrew Miller is an Internationally Certified Executive Coach trained in unlocking potential and performance in individuals and teams. By attending this highly interactive workshop\, you will identify:\n\n\n	What patterns of behaviour hold you back and which propel you forward\n	Choices you make that align to your passion and purpose\n	How do your values and beliefs work for or against you\n	When are you your true self and when do you pretend to be someone else? What serves you best?\n	What will give you clarity and motivation to think\, act and perform at a higher level\n	How to set big goals and achieve them
X-ALT-DESC;FMTTYPE=text/html:<h2 align="LEFT">This time next year.... what do you want to say you did in 2017?</h2>\n\n<ul>\n	<li align="LEFT">What will fulfill you and matter most?</li>\n	<li align="LEFT">What will you achieve and how will you go beyond your own expectations?</li>\n	<li align="LEFT">How will you get the best out of yourself and others?</li>\n</ul>\n\n<p><strong>Andrew Miller is an Internationally Certified Executive Coach trained in unlocking potential and performance in individuals and teams. By attending this highly interactive workshop\, you will identify:</strong></p>\n\n<ol>\n	<li>What patterns of behaviour hold you back and which propel you forward</li>\n	<li>Choices you make that align to your passion and purpose</li>\n	<li>How do your values and beliefs work for or against you</li>\n	<li>When are you your true self and when do you pretend to be someone else? What serves you best?</li>\n	<li>What will give you clarity and motivation to think\, act and perform at a higher level</li>\n	<li>How to set big goals and achieve them</li>\n</ol>\n
LOCATION:Wintec Gallagher Hub\, Events Room 1. City Campus.
UID:e.2751.30
SEQUENCE:3
DTSTAMP:20260424T124237Z
URL:https://business.waikatochamber.co.nz/events/details/2017-power-up-30
END:VEVENT

END:VCALENDAR
