BEGIN:VCALENDAR
VERSION:2.0
PRODID:-//ChamberMaster//Event Calendar 2.0//EN
METHOD:PUBLISH
X-PUBLISHED-TTL:P3D
REFRESH-INTERVAL:P3D
CALSCALE:GREGORIAN
BEGIN:VEVENT
DTSTART:20170511T051500Z
DTEND:20170511T073000Z
X-MICROSOFT-CDO-ALLDAYEVENT:FALSE
SUMMARY:2017 Hamilton Major Events
DESCRIPTION:This year Hamilton is a host city for two major sporting events.\n\nOn 20 June\, the Chiefs will play the British and Irish Lions in the sixth match of the DHL New Zealand Lions Series.\n\nIn November\, international rugby league comes to Hamilton for the first time\, with two pool matches as part of Rugby League World Cup 2017.\n\nAll three of these historic matches will be played at FMG Stadium Waikato.\n\nHamilton's business community is invited to hear guest speakers from New Zealand Rugby and Rugby League World Cup talk about these events\, how you can get involved\, and what the Major Events Management Act means for your business.\n\nYou will also have the chance to take a "behind the scenes" tour of our world-class venue.
X-ALT-DESC;FMTTYPE=text/html:<h2>This year Hamilton is a host city for two major sporting events.</h2>\n\n<p>On 20 June\, the Chiefs will play the British and Irish Lions in the sixth match of the DHL New Zealand Lions Series.</p>\n\n<p>In November\, international rugby league comes to Hamilton for the first time\, with two pool matches as part of Rugby League World Cup 2017.</p>\n\n<p>All three of these historic matches will be played at FMG Stadium Waikato.</p>\n\n<p>Hamilton&rsquo\;s business community is invited to hear guest speakers from New Zealand Rugby and Rugby League World Cup talk about these events\, how you can get involved\, and what the Major Events Management Act means for your business.</p>\n\n<p>You will also have the chance to take a &ldquo\;behind the scenes&rdquo\; tour of our world-class venue.</p>\n
LOCATION:FMG Stadium Waikato\, Gate 5\, Seddon Road Hamilton
UID:e.2751.48
SEQUENCE:3
DTSTAMP:20260424T033436Z
URL:https://business.waikatochamber.co.nz/events/details/2017-hamilton-major-events-48
END:VEVENT

END:VCALENDAR
